BEGIN:VCALENDAR
VERSION:2.0
PRODID:-//Lance Wallnau - ECPv6.9.1//NONSGML v1.0//EN
CALSCALE:GREGORIAN
METHOD:PUBLISH
X-ORIGINAL-URL:https://lancewallnau.com
X-WR-CALDESC:Events for Lance Wallnau
REFRESH-INTERVAL;VALUE=DURATION:PT1H
X-Robots-Tag:noindex
X-PUBLISHED-TTL:PT1H
BEGIN:VTIMEZONE
TZID:America/Chicago
BEGIN:DAYLIGHT
TZOFFSETFROM:-0600
TZOFFSETTO:-0500
TZNAME:CDT
DTSTART:20250309T080000
END:DAYLIGHT
BEGIN:STANDARD
TZOFFSETFROM:-0500
TZOFFSETTO:-0600
TZNAME:CST
DTSTART:20251102T070000
END:STANDARD
END:VTIMEZONE
BEGIN:VEVENT
DTSTART;TZID=America/Chicago:20250606T190000
DTEND;TZID=America/Chicago:20250606T220000
DTSTAMP:20260425T213934
CREATED:20250530T193622Z
LAST-MODIFIED:20250530T194005Z
UID:46883-1749236400-1749247200@lancewallnau.com
SUMMARY:FlashPoint LIVE - Bedford\, Texas
DESCRIPTION:FlashPoint Army\, we are SO READY to be in Bedford\, TX! \nNow that 2024 is behind us\, the work is just beginning. For a special one night only event\, Gene Bailey will be joined by a panel of insightful leaders who will discuss what is going on in America\, and how we can activate to make real\, lasting change. \nWe've been praying\, we've been influencing\, we've voted …. now let's make sure we are creating godly change that will last for generations. Let's get equipped and activated—together! \nSchedule:\nLIVE: Friday\, June 6th @ 7 p.m. CT (Doors to venue and sanctuary open at 6 p.m.) \nNew Beginnings Church \n2000 Forum Parkway Bedford\, TX 76021 \nFREE Parking \nRegistration is required for this event! \nFor more information and to register\, visit: FParmy.com/bedford
URL:https://lancewallnau.com/event/flashpoint-live-bedford-texas/
ATTACH;FMTTYPE=image/jpeg:https://lancewallnau.com/wp-content/uploads/2025/05/bedfordhorizontal-scaled.jpg
END:VEVENT
END:VCALENDAR