BEGIN:VCALENDAR
VERSION:2.0
PRODID:-//Lance Wallnau - ECPv6.9.1//NONSGML v1.0//EN
CALSCALE:GREGORIAN
METHOD:PUBLISH
X-ORIGINAL-URL:https://lancewallnau.com
X-WR-CALDESC:Events for Lance Wallnau
REFRESH-INTERVAL;VALUE=DURATION:PT1H
X-Robots-Tag:noindex
X-PUBLISHED-TTL:PT1H
BEGIN:VTIMEZONE
TZID:America/Detroit
BEGIN:DAYLIGHT
TZOFFSETFROM:-0500
TZOFFSETTO:-0400
TZNAME:EDT
DTSTART:20240310T070000
END:DAYLIGHT
BEGIN:STANDARD
TZOFFSETFROM:-0400
TZOFFSETTO:-0500
TZNAME:EST
DTSTART:20241103T060000
END:STANDARD
TZID:Asia/Jerusalem
BEGIN:DAYLIGHT
TZOFFSETFROM:+0200
TZOFFSETTO:+0300
TZNAME:IDT
DTSTART:20240329T000000
END:DAYLIGHT
BEGIN:STANDARD
TZOFFSETFROM:+0300
TZOFFSETTO:+0200
TZNAME:IST
DTSTART:20241026T230000
END:STANDARD
TZID:America/Chicago
BEGIN:DAYLIGHT
TZOFFSETFROM:-0600
TZOFFSETTO:-0500
TZNAME:CDT
DTSTART:20240310T080000
END:DAYLIGHT
BEGIN:STANDARD
TZOFFSETFROM:-0500
TZOFFSETTO:-0600
TZNAME:CST
DTSTART:20241103T070000
END:STANDARD
TZID:America/Denver
BEGIN:DAYLIGHT
TZOFFSETFROM:-0700
TZOFFSETTO:-0600
TZNAME:MDT
DTSTART:20240310T090000
END:DAYLIGHT
BEGIN:STANDARD
TZOFFSETFROM:-0600
TZOFFSETTO:-0700
TZNAME:MST
DTSTART:20241103T080000
END:STANDARD
END:VTIMEZONE
BEGIN:VEVENT
DTSTART;TZID=America/Detroit:20241001T190000
DTEND;TZID=America/Detroit:20241005T130000
DTSTAMP:20260425T115959
CREATED:20240919T002448Z
LAST-MODIFIED:20240923T224343Z
UID:42620-1727809200-1728133200@lancewallnau.com
SUMMARY:The Main Event - Cleveland\, TN
DESCRIPTION:The Awaken America Gathering\n\n\n\n\n\n\n\n\n\n\n\n\nPerry Stone Ministries celebrates the time-honored tradition of old-fashioned Pentacostal camp-meeting services\, and that's just what you'll find at “The Main Event”.  Perry invites anointed ministers who operate in the power of the Holy Spirit and inspire us to be a light that will shine to the world. \nHeld annually during the fall of each year\, this Homecoming event draws in friends from around the country to experience a season of refreshing and a real move of God. \n\nLance Wallnau speaking session: Wednesday\, October 2nd at 7PM \n\n\nFor more information and to register\, visit: https://perrystone.org/the-main-event/
URL:https://lancewallnau.com/event/the-main-event-cleveland-tn/
LOCATION:Omega Center International\, 410 Urbane Rd NE\, Cleveland\, TN\, 37312\, United States
ATTACH;FMTTYPE=image/jpeg:https://lancewallnau.com/wp-content/uploads/2024/09/Main-Event-Perry-Stone-scaled.jpg
END:VEVENT
BEGIN:VEVENT
DTSTART;VALUE=DATE:20241002
DTEND;VALUE=DATE:20241017
DTSTAMP:20260425T115959
CREATED:20240923T234402Z
LAST-MODIFIED:20240923T234448Z
UID:42702-1727827200-1729123199@lancewallnau.com
SUMMARY:All Nations Convocation 2024 - Jerusalem\, Israel
DESCRIPTION:Join us for this years All Nations Convocation to welcome the King of Glory live from Jerusalem! \nWhen? \nOCTOBER 2 – OCTOBER 16\, 2024 \nWhere? \nIn Jerusalem – RAMAT RACHEL HOTEL CONVOCATION CENTER \n\nHave questions? Need more info? Want to sponsor the event?\n\nContact us today and we'll get back to you ASAP. \n\njhopfan@jhopfan.org \n\nVisit: https://jhopfan.org/project/ancj
URL:https://lancewallnau.com/event/jerusalem-convocation-2024/
LOCATION:TX
ATTACH;FMTTYPE=image/webp:https://lancewallnau.com/wp-content/uploads/2024/09/5dead9d4-09d8-48e0-9352-3652b0c0ceee_ANCJ2024Flyer-20241219.webp
END:VEVENT
BEGIN:VEVENT
DTSTART;TZID=America/Chicago:20241010T190000
DTEND;TZID=America/Chicago:20241011T213000
DTSTAMP:20260425T115959
CREATED:20241010T012203Z
LAST-MODIFIED:20241010T012203Z
UID:42929-1728586800-1728682200@lancewallnau.com
SUMMARY:FlashPoint LIVE - New Orleans
DESCRIPTION:The 2024 FlashPoint LIVE Rescue America Tour is making a stop in the great state of Louisiana! Join other patriots and believers for two days of inspiration\, information and equipping. Let’s take a stand for this great nation and get equipped together! \nCovenant Church\nOct. 10-11\, 2024\n1973 Ormond Blvd\nDestrehan\, LA 70047 \nGeneral admission seating for this event is free! VIP tickets are sold out. Visit our registration site to save your spots today. \nAt a FlashPoint LIVE event\, you will experience a dynamic rally-style atmosphere in the crowd. Night sessions that are full of news and insights\, hard truths and humor; and daytime Flash Talks that will equip you with the practical tools and information to create positive change right where you live. \nAbout FlashPoint: A live news and commentary program that airs three times a week on VICTORY Channel and syndicated outlets. FlashPoint’s panel of leaders in government\, business\, politics\, and the Church talk about current events and issues critical to you and me. If mainstream media is ignoring it\, FlashPoint is not! The program brings a prophetic perspective to what is happening in our world. As we face uncertain times and a world often divided\, you can look to FlashPoint to be a trusted source of truth and hope. \nFor more information\, visit: https://www.2024flashpoint.live/new-orleans/
URL:https://lancewallnau.com/event/flashpoint-live-new-orleans/
LOCATION:Covenant Church\, 1973 Ormond Blvd\, Destrehan\, LA\, 70047\, United States
ATTACH;FMTTYPE=image/jpeg:https://lancewallnau.com/wp-content/uploads/2024/10/New-Orleans-Rescue-AmerTour-Pos1A-Blog-Image-NO-BUG-1500x1000-1.jpg
END:VEVENT
BEGIN:VEVENT
DTSTART;TZID=America/Denver:20241022T100000
DTEND;TZID=America/Denver:20241024T220000
DTSTAMP:20260425T115959
CREATED:20241022T001055Z
LAST-MODIFIED:20241022T002709Z
UID:43058-1729591200-1729807200@lancewallnau.com
SUMMARY:America Bless God Rally - Grand Junction\, Colorado
DESCRIPTION:RALLY INFO. \n\n\n\nLance Wallnau – Tuesday 10 AM \nDr. Jesse Duplantis – Tuesday 7 PM \nCarla Cappetto – Wednesday 10 AM \nJohn Cappetto – Wednesday 7 PM \nJohn & Carla Cappetto – Thursday 10 AM \nLance Wallnau – Thursday 7 PM \nAMERICA BLESS GOD Rally will be a life changing time for the Church and our nation! \n\nFaith Heights Church\n600 28 1/4 Rd\nGrand Junction\, CO 81506 \n\nChild care will be provided for all evening services. \nFHC praise team will be ministering in all services. \n970-245-3755 \n970-433-4503 \ne mail – jcmnow@icloud.com \n\nVisit faithtoday.org for more info.
URL:https://lancewallnau.com/event/america-bless-god-rally-grand-junction-colorado/
LOCATION:TX
ATTACH;FMTTYPE=image/jpeg:https://lancewallnau.com/wp-content/uploads/2024/10/Faith-Heights-Church-scaled.jpg
END:VEVENT
BEGIN:VEVENT
DTSTART;TZID=America/Chicago:20241026T170000
DTEND;TZID=America/Chicago:20241027T090000
DTSTAMP:20260425T115959
CREATED:20241022T002326Z
LAST-MODIFIED:20241022T003812Z
UID:43063-1729962000-1730019600@lancewallnau.com
SUMMARY:Living Word Christian Center - Brooklyn Park\, Minnesota
DESCRIPTION:Join for all of our weekend services with Dr. Lance Wallnau! \n\n\nLance is the innovator who introduced the “Seven Mountains of Culture” as a fresh template to explain how the church must engage culture at the turn of the century. \nDr. Wallnau is a strategist\, futurist\, and compelling communicator who has shared platforms with Ben Carson\, Mike Pompeo\, and best-selling authors Ken Blanchard and John Maxwell. He has conducted training for the United Nations and spoken at Harvard\, the Chinese Academy of Social Sciences\, and the London School of Theology. With a thirty-year background consulting businesses and non-profits\, Lance’s students represent a global tapestry spanning governments\, CEOs\, entertainers\, and entrepreneurs. He directs the Lance Learning Group\, a strategic teaching and consulting company based in Dallas\, Texas. \nJoin us for these services in person or online! \n\n\nLance will be ministering at the Saturday evening service at 5pm as well as the 9am and 11am Sunday services. \nLocation: \nLiving Word Christian Center\n9201 75th Avenue North\nBrooklyn Park\, MN 55428 \nWebsite: https://www.lwcc.org/brooklynpark/
URL:https://lancewallnau.com/event/living-word-christian-center-brooklyn-park-minnesota/
LOCATION:TX
END:VEVENT
END:VCALENDAR