BEGIN:VCALENDAR
VERSION:2.0
PRODID:-//Lance Wallnau - ECPv6.9.1//NONSGML v1.0//EN
CALSCALE:GREGORIAN
METHOD:PUBLISH
X-ORIGINAL-URL:https://lancewallnau.com
X-WR-CALDESC:Events for Lance Wallnau
REFRESH-INTERVAL;VALUE=DURATION:PT1H
X-Robots-Tag:noindex
X-PUBLISHED-TTL:PT1H
BEGIN:VTIMEZONE
TZID:America/Chicago
BEGIN:DAYLIGHT
TZOFFSETFROM:-0600
TZOFFSETTO:-0500
TZNAME:CDT
DTSTART:20240310T080000
END:DAYLIGHT
BEGIN:STANDARD
TZOFFSETFROM:-0500
TZOFFSETTO:-0600
TZNAME:CST
DTSTART:20241103T070000
END:STANDARD
TZID:America/Los_Angeles
BEGIN:DAYLIGHT
TZOFFSETFROM:-0800
TZOFFSETTO:-0700
TZNAME:PDT
DTSTART:20240310T100000
END:DAYLIGHT
BEGIN:STANDARD
TZOFFSETFROM:-0700
TZOFFSETTO:-0800
TZNAME:PST
DTSTART:20241103T090000
END:STANDARD
TZID:America/New_York
BEGIN:DAYLIGHT
TZOFFSETFROM:-0500
TZOFFSETTO:-0400
TZNAME:EDT
DTSTART:20240310T070000
END:DAYLIGHT
BEGIN:STANDARD
TZOFFSETFROM:-0400
TZOFFSETTO:-0500
TZNAME:EST
DTSTART:20241103T060000
END:STANDARD
END:VTIMEZONE
BEGIN:VEVENT
DTSTART;TZID=America/Chicago:20240912T190000
DTEND;TZID=America/Chicago:20240912T220000
DTSTAMP:20260425T131812
CREATED:20240912T034417Z
LAST-MODIFIED:20240912T034707Z
UID:42519-1726167600-1726178400@lancewallnau.com
SUMMARY:FlashPoint LIVE Omaha - Council Bluffs\, Iowa
DESCRIPTION:It's time to rescue\nAmerica\, Omaha\n\nJoin patriots and believers for one night of inspiration\, information and equipping. As the unofficial beginning to Lord of Hosts’ annual Opening the Heavens Conference\, this stop on the Rescue America Tour is especially powerful! \nMid-America Center\nThursday\, Sept. 12\, 2024\n1 Arena Way\nCouncil Bluffs\, IA 51501 \nAt a FlashPoint LIVE event\, you will experience a dynamic rally-style atmosphere full of teaching\, ministry\, commentary and prophetic insights. Depending upon the speakers\, you never know what may happen! \nAbout FlashPoint: A live news and commentary program that airs three times a week on VICTORY Channel and syndicated outlets. FlashPoint’s panel of leaders in government\, business\, politics\, and the Church talk about current events and issues critical to you and me. If mainstream media is ignoring it\, FlashPoint is not! The program brings a prophetic perspective to what is happening in our world. As we face uncertain times and a world often divided\, you can look to FlashPoint to be a trusted source of truth and hope. \nAs part of Opening the Heavens\, register directly for that conference to participate in FlashPoint LIVE. \nFor more information and to register\, visit: https://www.openingtheheavens.org/registration2024
URL:https://lancewallnau.com/event/flashpoint-live-omaha-council-bluffs-iowa/
LOCATION:Mid America Center\, 1 Arena Way\, Council Bluffs\, IA\, 51501-6991\, United States
ATTACH;FMTTYPE=image/jpeg:https://lancewallnau.com/wp-content/uploads/2024/09/Omaha-Rescue-AmerTour-Pos1A-Blog-Image-NO-BUG-1500x1000-1.jpg
END:VEVENT
BEGIN:VEVENT
DTSTART;TZID=America/Los_Angeles:20240915T090000
DTEND;TZID=America/Los_Angeles:20240915T130000
DTSTAMP:20260425T131813
CREATED:20240914T180710Z
LAST-MODIFIED:20240914T180710Z
UID:42580-1726390800-1726405200@lancewallnau.com
SUMMARY:Awaken Church - San Diego\, CA
DESCRIPTION:Awaken Church San Marcos Campus \n1760 Descanso Ave. San Marcos\, CA 92078 \nSunday\, September 15th \n9am and 11am Sunday services
URL:https://lancewallnau.com/event/awaken-church-san-diego-ca/
LOCATION:Awaken Church
ATTACH;FMTTYPE=image/jpeg:https://lancewallnau.com/wp-content/uploads/2024/09/DrLance-SM-Story.jpeg
END:VEVENT
BEGIN:VEVENT
DTSTART;TZID=America/New_York:20240927T190000
DTEND;TZID=America/New_York:20240928T210000
DTSTAMP:20260425T131813
CREATED:20240923T225335Z
LAST-MODIFIED:20240923T225857Z
UID:42698-1727463600-1727557200@lancewallnau.com
SUMMARY:The Courage Tour: Pittsburgh\, PA
DESCRIPTION:Why “The Courage Tour” is a Must-Attend Event\n\n\n\n\nIn a world increasingly challenged by the erosion of core values like faith\, family\, and freedom\, The Courage Tour emerges as a beacon of hope\, uniting those feeling sidelined to harness a divine strength against the prevailing fear and division. This movement transcends mere gatherings\, aiming to significantly alter the spiritual atmosphere across seven states and nineteen counties by empowering attendees from diverse backgrounds with clarity and inspiration. Its mission extends to strengthening churches\, supporting independent entrepreneurs\, guiding parents in protecting their families\, and motivating individuals to positively impact their communities. Central to The Courage Tour is the celebration of Jesus Christ's courage and triumph\, providing powerful teachings to inspire attendees to boldly live out their faith. As a collective force rooted in shared values\, the tour is a clarion call to stand in unity for what truly matters\, reinforcing that with God\, we access an unparalleled source of strength and courage\, reminding us that courage\, indeed\, is contagious. \n\n\nSeptember 27th & 28th\n\n\n\n\n\nCourage Tour\nFriday Sep. 27th\n7:00 pm – 9:00 pm \nSaturday Sep. 28th\n9:00am – 4:00pm and\n7:00 pm – 9:00 pm\n_____ \nMonroeville Convention Center\n209 Mall Boulevard\, Monroeville\, PA 15146 \nFor more information\, visit: thecouragetour.com
URL:https://lancewallnau.com/event/the-courage-tour-pittsburgh-pa/
LOCATION:Monroeville Convention Center\, 209 Mall Boulevard\, Monroeville\, PA\, 15146\, United States
ATTACH;FMTTYPE=image/png:https://lancewallnau.com/wp-content/uploads/2024/09/Courage-Tour-Dates-and-Speakers-1.png
END:VEVENT
END:VCALENDAR