BEGIN:VCALENDAR
VERSION:2.0
PRODID:-//Lance Wallnau - ECPv6.9.1//NONSGML v1.0//EN
CALSCALE:GREGORIAN
METHOD:PUBLISH
X-WR-CALNAME:Lance Wallnau
X-ORIGINAL-URL:https://lancewallnau.com
X-WR-CALDESC:Events for Lance Wallnau
REFRESH-INTERVAL;VALUE=DURATION:PT1H
X-Robots-Tag:noindex
X-PUBLISHED-TTL:PT1H
BEGIN:VTIMEZONE
TZID:America/Detroit
BEGIN:DAYLIGHT
TZOFFSETFROM:-0500
TZOFFSETTO:-0400
TZNAME:EDT
DTSTART:20210314T070000
END:DAYLIGHT
BEGIN:STANDARD
TZOFFSETFROM:-0400
TZOFFSETTO:-0500
TZNAME:EST
DTSTART:20211107T060000
END:STANDARD
TZID:America/Chicago
BEGIN:DAYLIGHT
TZOFFSETFROM:-0600
TZOFFSETTO:-0500
TZNAME:CDT
DTSTART:20210314T080000
END:DAYLIGHT
BEGIN:STANDARD
TZOFFSETFROM:-0500
TZOFFSETTO:-0600
TZNAME:CST
DTSTART:20211107T070000
END:STANDARD
END:VTIMEZONE
BEGIN:VEVENT
DTSTART;VALUE=DATE:20210924
DTEND;VALUE=DATE:20210927
DTSTAMP:20260425T100845
CREATED:20210803T183537Z
LAST-MODIFIED:20210803T183537Z
UID:25821-1632441600-1632700799@lancewallnau.com
SUMMARY:AGLOW International in Orlando\, FL
DESCRIPTION:Our 2021 Aglow Conference will be held in Orlando Florida\, Sept. 24-26. We are excited to have our friends Dutch Sheets and Lance Wallnau with us for this important event as we RESET for the future. We are indeed at a crossroads\, on the cusp of the Third Day Awakening. Make plans now to join us in beautiful Orlando! \nDates: Friday\, Sept. 24 – Sunday\, Sept. 26\, 2021\nLocation: Orlando\, Florida.\nCost: $175 (Registration fee includes Global Partner discount\, extended to everyone\, this year only.)
URL:https://lancewallnau.com/event/aglow-international-in-orlando-fl/
ATTACH;FMTTYPE=image/jpeg:https://lancewallnau.com/wp-content/uploads/2021/08/2021_conference_theme_PAGE_banner_800px.jpg
END:VEVENT
BEGIN:VEVENT
DTSTART;TZID=America/Detroit:20210917T190000
DTEND;TZID=America/Detroit:20210918T130000
DTSTAMP:20260425T100845
CREATED:20210903T192757Z
LAST-MODIFIED:20210903T192757Z
UID:26108-1631905200-1631970000@lancewallnau.com
SUMMARY:Let the Trumpets Sound!
DESCRIPTION:The trumpets are sounding! \nThis is a strategic time and place to gather for hearing from the Lord and prophesying to the nations. \nCome hear what the Lord is saying and let your trumpet sound! \nMake plans to attend this special gathering with Chuck Pierce\, Dr. Lance Wallnau\, and Ramiro Peña. \nPreregistration Closes September 12\, 2021. \nHosted by Ramiro Peña Ministries. \nRegistration\nPreregistration $49 before September 12th\nRegistration at the door $59
URL:https://lancewallnau.com/event/let-the-trumpets-sound/
LOCATION:Church of the Open Door\, 900 TX-340 Loop\, Waco\, TX\, 76705\, United States
ATTACH;FMTTYPE=image/jpeg:https://lancewallnau.com/wp-content/uploads/2021/09/medium_image-1630548662684.jpg
END:VEVENT
BEGIN:VEVENT
DTSTART;TZID=America/Chicago:20210916T190000
DTEND;TZID=America/Chicago:20210919T190000
DTSTAMP:20260425T100845
CREATED:20210803T182421Z
LAST-MODIFIED:20210803T182421Z
UID:25816-1631818800-1632078000@lancewallnau.com
SUMMARY:Opening the Heavens 2021 Conference with Hank Kunneman
DESCRIPTION:The Opening the Heavens Conference is an annual\, multi-day event where the prophetic heart of God and the manifestation of His supernatural power are demonstrated to those in attendance and viewing online around the world! \n​ \nHosted by Pastors Hank and Brenda Kunneman of Lord of Hosts Church and One Voice Ministries in Omaha\, Nebraska\, this year's conference is titled “202WON: Year of Victory.” It's time to get ready for the revolution of light!
URL:https://lancewallnau.com/event/opening-the-heavens-2021-conference-with-hank-kunneman/
LOCATION:Mid-America Center\, 1 Arena Way\, Council Bluffs\, IA\, 51501\, United States
ATTACH;FMTTYPE=image/png:https://lancewallnau.com/wp-content/uploads/2021/08/Screen-Shot-2021-08-03-at-1.22.59-PM.png
END:VEVENT
BEGIN:VEVENT
DTSTART;TZID=America/Detroit:20210705T190000
DTEND;TZID=America/Detroit:20210709T120000
DTSTAMP:20260425T100845
CREATED:20210608T184832Z
LAST-MODIFIED:20210608T184832Z
UID:25312-1625511600-1625832000@lancewallnau.com
SUMMARY:Summer Family Bible Conference
DESCRIPTION:Pack your bags and book your flight. Summer fun awaits you and your family in the mountains of Colorado this July! \nSpend five powerful days—July 5–9—under teaching from Andrew Wommack and other anointed speakers. Along with life-changing revelations\, you’ll get to experience daily worship led by Charlie and Jill LeBlanc as well as Daniel Amstutz and Charis Worship. \nYou’ll be immersed in an empowering environment with believers of like faith from all over the world. You will get to meet and fellowship with some of the world’s most gifted teachers and ministers\, who have brought powerful\, timely words for you. And you get to experience it all in the heart of the Pikes Peak region\, in the beautiful town of Woodland Park\, Colorado. It’s a summer adventure that can’t be beat! \nYour kids\, too\, are in for the time of their lives at this year’s conference as they go on an adventure with God! All children and youth activities are tailor-made for each age group and include music\, ministry\, and opportunities for powerful encounters with the Creator. This is taking vacation Bible school to the next level! \nDuring the event\, you can take tours of both The Barn and The Auditorium\, and there will also be an opportunity to attend Healing School\, where you will learn how to both receive and minister healing. When you’re not inside soaking up the Word\, enjoy the breathtaking scenery on the Charis Bible College campus. Offsite\, the town of Woodland Park—known as The City Above the Clouds—offers camping\, hiking\, fishing\, and more. \nThe surrounding Pikes Peak region offers endless attractions and outdoor activities you and your family can enjoy: \nGarden of the Gods Park\nCheyenne Mountain Zoo\nCave of the Winds Mountain Park\nManitou Cliff Dwellings\nS. Olympic & Paralympic Training Center\nAir Force Academy\nAnd so much more! \nThis is a free event\, but online registration is required for children (ages 5–12) and youth (ages 13–17). Children under five years old are welcome; however\, childcare will not be provided. \nOn Wednesday\, July 7\, your whole family is invited to a special barbecue to celebrate America and our freedom. Barbecue tickets are available for purchase when you register. \nCome early for our special Independence Day musical! \nOn July 4th—the day before the Summer Family Bible Conference kicks off—we will celebrate Independence Day with our In God We Trust musical! This epic production tells the tale of America through the story of a small church in Arlington\, Texas. Come honor those who have fought and died for our freedom with this amazing show! \nWe can’t wait to see you this summer!
URL:https://lancewallnau.com/event/summer-family-bible-conference/
LOCATION:The Auditorium\, 800 Gospel Truth Way\, Woodland Park\, CO\, 80863\, United States
ATTACH;FMTTYPE=image/png:https://lancewallnau.com/wp-content/uploads/2021/06/Screen-Shot-2021-06-08-at-1.47.19-PM.png
ORGANIZER;CN="Andrew Wommack Ministries":MAILTO:info@awmi.net
END:VEVENT
BEGIN:VEVENT
DTSTART;TZID=America/Chicago:20210624T190000
DTEND;TZID=America/Chicago:20210626T120000
DTSTAMP:20260425T100845
CREATED:20210608T161813Z
LAST-MODIFIED:20210608T161813Z
UID:25307-1624561200-1624708800@lancewallnau.com
SUMMARY:Reclaiming the Family Mountain
DESCRIPTION:
URL:https://lancewallnau.com/event/reclaiming-the-family-mountain/
LOCATION:Church On The Rock\, 1780 W Memorial Rd\, Oklahoma City\, OK\, 73134\, United States
ATTACH;FMTTYPE=image/png:https://lancewallnau.com/wp-content/uploads/2021/06/Screen-Shot-2021-06-08-at-11.15.47-AM.png
END:VEVENT
END:VCALENDAR