BEGIN:VCALENDAR
VERSION:2.0
PRODID:-//Lance Wallnau - ECPv6.9.1//NONSGML v1.0//EN
CALSCALE:GREGORIAN
METHOD:PUBLISH
X-WR-CALNAME:Lance Wallnau
X-ORIGINAL-URL:https://lancewallnau.com
X-WR-CALDESC:Events for Lance Wallnau
REFRESH-INTERVAL;VALUE=DURATION:PT1H
X-Robots-Tag:noindex
X-PUBLISHED-TTL:PT1H
BEGIN:VTIMEZONE
TZID:Atlantic/South_Georgia
BEGIN:STANDARD
TZOFFSETFROM:-0200
TZOFFSETTO:-0200
TZNAME:-02
DTSTART:20230101T000000
END:STANDARD
TZID:America/New_York
BEGIN:DAYLIGHT
TZOFFSETFROM:-0500
TZOFFSETTO:-0400
TZNAME:EDT
DTSTART:20220313T070000
END:DAYLIGHT
BEGIN:STANDARD
TZOFFSETFROM:-0400
TZOFFSETTO:-0500
TZNAME:EST
DTSTART:20221106T060000
END:STANDARD
BEGIN:DAYLIGHT
TZOFFSETFROM:-0500
TZOFFSETTO:-0400
TZNAME:EDT
DTSTART:20230312T070000
END:DAYLIGHT
BEGIN:STANDARD
TZOFFSETFROM:-0400
TZOFFSETTO:-0500
TZNAME:EST
DTSTART:20231105T060000
END:STANDARD
TZID:America/Phoenix
BEGIN:STANDARD
TZOFFSETFROM:-0700
TZOFFSETTO:-0700
TZNAME:MST
DTSTART:20220101T000000
END:STANDARD
TZID:America/Detroit
BEGIN:DAYLIGHT
TZOFFSETFROM:-0500
TZOFFSETTO:-0400
TZNAME:EDT
DTSTART:20210314T070000
END:DAYLIGHT
BEGIN:STANDARD
TZOFFSETFROM:-0400
TZOFFSETTO:-0500
TZNAME:EST
DTSTART:20211107T060000
END:STANDARD
BEGIN:DAYLIGHT
TZOFFSETFROM:-0500
TZOFFSETTO:-0400
TZNAME:EDT
DTSTART:20220313T070000
END:DAYLIGHT
BEGIN:STANDARD
TZOFFSETFROM:-0400
TZOFFSETTO:-0500
TZNAME:EST
DTSTART:20221106T060000
END:STANDARD
TZID:America/Chicago
BEGIN:DAYLIGHT
TZOFFSETFROM:-0600
TZOFFSETTO:-0500
TZNAME:CDT
DTSTART:20210314T080000
END:DAYLIGHT
BEGIN:STANDARD
TZOFFSETFROM:-0500
TZOFFSETTO:-0600
TZNAME:CST
DTSTART:20211107T070000
END:STANDARD
BEGIN:DAYLIGHT
TZOFFSETFROM:-0600
TZOFFSETTO:-0500
TZNAME:CDT
DTSTART:20220313T080000
END:DAYLIGHT
BEGIN:STANDARD
TZOFFSETFROM:-0500
TZOFFSETTO:-0600
TZNAME:CST
DTSTART:20221106T070000
END:STANDARD
TZID:America/Denver
BEGIN:DAYLIGHT
TZOFFSETFROM:-0700
TZOFFSETTO:-0600
TZNAME:MDT
DTSTART:20220313T090000
END:DAYLIGHT
BEGIN:STANDARD
TZOFFSETFROM:-0600
TZOFFSETTO:-0700
TZNAME:MST
DTSTART:20221106T080000
END:STANDARD
END:VTIMEZONE
BEGIN:VEVENT
DTSTART;TZID=Atlantic/South_Georgia:20230216T190000
DTEND;TZID=Atlantic/South_Georgia:20230218T210000
DTSTAMP:20260425T111418
CREATED:20230207T043345Z
LAST-MODIFIED:20230207T043345Z
UID:33697-1676574000-1676754000@lancewallnau.com
SUMMARY:Kingdom Fire Courts of Heaven Summit 2023
DESCRIPTION:Kingdom Fire: Manifesting the Kingdom and the Courts of Heaven over the 7 Mountains of Culture\n\n\n\n\n\nBe a part of our first crucial event of the new year!\n\n\n\n\nKingdom Fire Courts of Heaven Summit 2023\n\n\n\n\nWe’ve assembled a powerhouse lineup of speakers to share with you keys and strategies for influencing the Seven Mountains of Culture to take back our nations for Christ. \nEvery nation\, not just the United States\, is in a crisis mode right now. The fight is not with parties or people\, but this is a spiritual battle\, the likes of which we’ve not seen before.\nThe tools and strategies of the past won’t work in this climate\, but we CAN ignite the Kingdom Fire and take ground for the King. \n\n\nHere’s why you don’t want to miss this meeting.\n\n\n\n\nAt this summit we will discover how the Holy Spirit is overlaying the Courts of Heaven mandate over the 7 Mountains of Culture. We will also discover how the revelation of the Courts of Heaven will help us usher in the Kingdom of God \n\n\nHosted by: Dr. Francis & Carmela Myles \n\n\n\nSpeakers: Lance Wallnau\, Apostle B. Dwayne Hardin\, Linda Vega\, Apostle David Whittington\, Apostle Jeremiah Hosford\, Apostle Jacquie Tyre.\n\n\n\n\n\n\n\nFor more information and to register\, visit: https://event.francismyles.com/kingdom-fire-summit-2023-feb-16-18/
URL:https://lancewallnau.com/event/kingdom-fire-courts-of-heaven-summit-2023/
LOCATION:New Covenant Church\, 154 Jonesboro Road\, McDonough\, GA\, 30253\, United States
ATTACH;FMTTYPE=image/png:https://lancewallnau.com/wp-content/uploads/2023/02/KINGDOM-FIRE-SOCMED-WALLNAU-PNG.png
END:VEVENT
BEGIN:VEVENT
DTSTART;TZID=America/New_York:20230216T190000
DTEND;TZID=America/New_York:20230217T210000
DTSTAMP:20260425T111418
CREATED:20230214T210007Z
LAST-MODIFIED:20230214T210007Z
UID:33840-1676574000-1676667600@lancewallnau.com
SUMMARY:FlashPoint LIVE Pensacola
DESCRIPTION:The first FlashPoint LIVE event of the year!\nThursday-Friday\, Feb. 16-17\, 2023\nBrownsville Church\n3100 West DeSoto Street\nPensacola\, Fla.\, 32505 \nFlashPoint LIVE Truth and Freedom Tour 2023 \nFlashPoint\, is a news and commentary program that talks about current events and issues critical to you and me\, and issues often ignored by the mainstream media. Looking at news from both natural and spiritual perspectives\, FlashPoint  brings a prophetic perspective to what is happening in our world. As we face uncertain times and a world often divided\, you can look to FlashPoint to be a trusted source of truth and hope. \nAt a FlashPoint LIVE event\, you can expect a dynamic\, rally-style atmosphere in the crowd; night sessions that are full of news and insights\, hard truths and humor; and daytime Flash Talks that will equip you with the practical tools and information to create positive change right where you live. \nTHURSDAY\, FEB. 16 NIGHT SESSION\nDoors open at 6 p.m. | Program starts at 7 p.m. CT\nPanelists: Gene Bailey\, Lance Wallnau\, Hank Kunneman\, Rick Green and Pastor Mark Burns \n  \nFRIDAY\, FEB. 17 FLASH TALKS\n\n9 a.m. | Session with Rick Green\n10 a.m. | Session with Lance Wallnau\n11 a.m. | Session with Leigh Wambsganss \nNOON-2 p.m. Lunch Break (food trucks on site)\n\n2 p.m. | Session with Pastor Hank Kunneman\n3 p.m. | Session with Rick Green \n  \nFRIDAY\, FEB. 17 | NIGHT SESSION\n\nDoors open at 6 p.m. | Program starts at 7 p.m. CT\nPanelists: Gene Bailey\, Hank Kunneman\, Rick Green and Pastor Tony Suarez \nFor more information and to register\, visit: https://fplive.govictory.com/
URL:https://lancewallnau.com/event/flashpoint-live-pensacola/
LOCATION:Brownsville Church\, 3100 West DeSoto Street\, Pensacola\, FL\, 32505\, United States
ATTACH;FMTTYPE=image/webp:https://lancewallnau.com/wp-content/uploads/2023/02/23_TandF_Tour_Approved.webp
END:VEVENT
BEGIN:VEVENT
DTSTART;TZID=America/Phoenix:20230119T190000
DTEND;TZID=America/Phoenix:20230121T203000
DTSTAMP:20260425T111418
CREATED:20230116T232236Z
LAST-MODIFIED:20230118T213400Z
UID:33513-1674154800-1674333000@lancewallnau.com
SUMMARY:Start the Year Off Right 2023 (Tucson)
DESCRIPTION:Don't Miss a Single Session of This Unforgettable Gathering!\nJanuary 19-21 \nGeneral Conference Sessions Only (Thursday & Friday nights / Saturday morning) — FREE \nThursday and Friday nights – 7:00 to 10:00 PM \nSaturday morning – 9:00 AM to 12:30 PM \nHal and Cheryl Sacks and the BridgeBuilders' team invite you to join us at Start the Year Off Right 2023 for three powerful days in the presence of the Lord. We hear God saying\, “Get ready\, get your house in order\, and make room for Me to move with power.” This is a clarion call to get into position for the great shaking ahead and a mighty outpouring of His Holy Spirit leading to the greatest harvest yet! Come expecting to receive fresh fire on the altar of your heart and renewed hope and courage for the season ahead. Don't miss a single session.\nGuest Speakers: Cindy Jacobs\, Dutch Sheets\, Gene Bailey\, Lance Wallnau\, Isaac Pitre and Chuck Pierce\n\n• Be part of the Southwest's most exciting regional gathering as we come together to hear the word of the Lord for 2023 on Thursday and Friday evenings and Saturday morning with Cindy Jacobs\, Isaac Pitre\, Dutch Sheets\, and Chuck Pierce \n• Encounter the Lord in intimate worship and be refreshed for the coming year! \n• REGISTRATION REQUIRED even though the general sessions are free. \nSee full schedule and details here: https://www.eventbrite.com/e/start-the-year-off-right-2023-registration-419410517147?aff=erelexpmlt
URL:https://lancewallnau.com/event/bridge-builders-starting-the-year-off-right-tucson/
LOCATION:Zion City Church\, 2561 Ruthrauff Rd\, Tucson\, AZ\, 85705\, United States
ATTACH;FMTTYPE=image/png:https://lancewallnau.com/wp-content/uploads/2023/01/BridgeBuilders-STYOR-2023-Tucson.png
END:VEVENT
BEGIN:VEVENT
DTSTART;TZID=America/Phoenix:20230105T190000
DTEND;TZID=America/Phoenix:20230107T170000
DTSTAMP:20260425T111418
CREATED:20230102T050653Z
LAST-MODIFIED:20230102T050739Z
UID:33378-1672945200-1673110800@lancewallnau.com
SUMMARY:Phoenix Gospel Truth Conference
DESCRIPTION:Phoenix Gospel Truth Conference 2023 \nFind Truth. Experience God. Be Transformed. \nDo you want to refresh and refocus your spirit\, soul\, and body for the new year? Then come and join us at the 2023 Gospel Truth Conference in warm\, sunny Phoenix! Andrew Wommack and special guest speaker Lance Wallnau have an inspiring word to help you face the challenges of today. Experience powerful worship led by Jamie Wommack and Charlie & Jill LeBlanc that will uplift your spirit and help you draw nearer to the Lord. \nLance Wallnau has been described by USA Today as one of only three evangelical leaders to accurately predict Donald Trump’s presidency from the launch of his campaign. His best-selling book\, God’s Chaos Candidate\, broadcasts\, and viral media influenced 3–5 million undecided evangelical voters. Lance is also the innovator who introduced the “Seven Mountains of Culture” as a fresh template to explain how the church must engage culture at the turn of the century. \nDr. Wallnau has shared platforms with best-selling authors Ken Blanchard and John Maxwell and lectured at universities from Harvard and MIT to the London School of Theology. Blessed by his thirty-year background consulting to business and nonprofits\, Lance inspires visions of tomorrow with the clarity of today—connecting ideas to action. Thousands of leaders around the world attest to the lasting impact of their first encounter with Lance. He currently directs the Lance Learning Group\, a strategic teaching and consulting company based in Dallas\, Texas\, and is a board member of the Truth & Liberty Coalition. \nThis special\, three-day event will be held at the beautiful Renaissance Phoenix Glendale Hotel & Spa in Glendale\, Arizona\, January 5–7. Between sessions\, you can enjoy shopping our library of faith-building materials available to take home with you so you can continue to grow in the Word. Treat yourself to luxurious amenities at the hotel and spa–even if you’re local\, you can come and enjoy a “staycation”! \nBring your family and friends. Expect the Word of God to be confirmed by signs and wonders\, healings\, miracles\, baptisms of the Holy Spirit\, and salvations throughout this life-changing conference!
URL:https://lancewallnau.com/event/phoenix-gospel-truth-conference/
LOCATION:Renaissance Glendale Hotel & Spa\, 9495 West Coyotes Blvd\, Glendale\, AZ\, 85305\, United States
ATTACH;FMTTYPE=image/jpeg:https://lancewallnau.com/wp-content/uploads/2023/01/phoenix-gtc-2023-web-graphics-banner-image-1366x500-js-pg-final-20220627.jpg
ORGANIZER;CN="Andrew Wommack Ministries":MAILTO:info@awmi.net
END:VEVENT
BEGIN:VEVENT
DTSTART;TZID=America/New_York:20221020T190000
DTEND;TZID=America/New_York:20221023T120000
DTSTAMP:20260425T111418
CREATED:20221019T232814Z
LAST-MODIFIED:20221019T232814Z
UID:32607-1666292400-1666526400@lancewallnau.com
SUMMARY:With Him On The Mountain
DESCRIPTION:With Him on the Mountain Conference\nOctober 20-23\, 2022\nWe are in an hour of tremendous glory that will touch the whole earth! Discover what God is saying about a spiritual destiny of a nation. Be empowered to prophetically engage in the events of our nation and the world. Join Mahesh & Bonnie Chavda\, Lance Wallnau\, Barbara Yoder\, Apostle Terrell Murphy\, Quincy Good Star\, Andreas Keller\, and worship with Steve Swanson for a powerful weekend of equipping\, awakening\, and impartation for your personal life and ministry. Meet Jesus on the mountain! \nFor we did not follow cunningly devised fables when we made known to you the power and coming of our Lord Jesus Christ\, but were eyewitnesses of His majesty. For He received from God the Father honor and glory when such a voice came to Him from the Excellent Glory: “This is My beloved Son\, in whom I am well pleased.” And we heard this voice which came from heaven when we were with Him on the holy mountain. (2 Peter 1:16-18) \n\n\n\n\nQuestions? Call 800.730.6264 or email info@chavdaministries.org
URL:https://lancewallnau.com/event/with-him-on-the-mountain/
LOCATION:All Nations Church 360 Hammond Rd.  Fort Mill\, SC 29715\, All N360 Hammond Rd.\, Fort Mill\, SC\, 29715\, United States
ATTACH;FMTTYPE=image/jpeg:https://lancewallnau.com/wp-content/uploads/2022/10/WEB-WITH-HIM-ON-THE-MOUNTAIN-1.jpg
END:VEVENT
BEGIN:VEVENT
DTSTART;TZID=America/New_York:20221008T100000
DTEND;TZID=America/New_York:20221008T120000
DTSTAMP:20260425T111418
CREATED:20220913T155500Z
LAST-MODIFIED:20221007T194931Z
UID:31861-1665223200-1665230400@lancewallnau.com
SUMMARY:Reclaim The Mountains
DESCRIPTION:Join us for “Reclaim the Mountains” with Lance Wallnau! \nSaturday\, Oct. 8th\nSession and Book Signing – 10:00 am to 12:00 pm\nIn The Embassy at North Palm Church – 7176 Bryhawke Circle\, North Charleston\, SC 29418 \nDr. Lance Wallnau is a prophet and strategist on the seven spheres of societal influence. Dr. Lance Wallnau is a catalytic thought leader. An internationally recognized speaker and business consultant\, he is one of the premiere speakers on the subject of cultural transformation and the seven mountains. He delivers his message of transformation with relevance\, wit\, and intensity. We are honored to have Lance come and share.
URL:https://lancewallnau.com/event/reclaim-the-mountains/
LOCATION:North Palm Church\, 7176 Bryhawke Circle\, North Charleston\, SC\, 29418\, United States
ATTACH;FMTTYPE=image/png:https://lancewallnau.com/wp-content/uploads/2022/09/lancewallnaugraphiconline.png
END:VEVENT
BEGIN:VEVENT
DTSTART;TZID=America/New_York:20220923T191500
DTEND;TZID=America/New_York:20220925T120000
DTSTAMP:20260425T111418
CREATED:20220913T154705Z
LAST-MODIFIED:20220913T154705Z
UID:31858-1663960500-1664107200@lancewallnau.com
SUMMARY:God Bless America Conference
DESCRIPTION:Attend Heritage Fellowship “GOD BLESS AMERICA” Conference with Lance Wallnau\n\nCome listen to internationally known Lance Wallnau who is coming to speak here in Northern Kentucky on how we can heal and restore America to Godly principles and action steps we each can take!\nAll are welcome to this special free event. No registration is needed except for the breakfast.\n\nSchedule:\nSeptember 23 7:14 PM Lance Wallnau\nSeptember 24 7:00 AM Appeal to Heaven Breakfast (Call for Reservations 859-525-1124)\nSeptember 24 9 AM to 12 PM Lance Wallnau\nSeptember 25 10 AM to 12 PM Church Service with Lance Wallnau\n\nHeritage Fellowship Church\n7216 US-42\, Florence Kentucky\nwww.hfcus.com\n859-525-1124\n\nTHE ARK ENCOUNTER & THE CREATION MUSEUM ARE ABOUT 25 MINUTES FROM THE HERITAGE CAMPUS! Make plans now to join us for this incredible weekend!
URL:https://lancewallnau.com/event/god-bless-america-conference/
LOCATION:Heritage Fellowship Church\, 7216 US-42\, Florence\, KY\, 41042-1902\, United States
END:VEVENT
BEGIN:VEVENT
DTSTART;VALUE=DATE:20220728
DTEND;VALUE=DATE:20220730
DTSTAMP:20260425T111418
CREATED:20220504T195617Z
LAST-MODIFIED:20220504T195617Z
UID:30131-1658966400-1659139199@lancewallnau.com
SUMMARY:Ignite '22
DESCRIPTION:Where: The Beardmore Event Center\, Omaha\, NE\nTickets: https://ignite-21.ticketspice.com/ignite-22-nehemiah\nHotel: Click here for hotel room block or Book directly at 402.408.5300 \nIgnite ‘22 is a two-day\, Ignite Christian Business conference taking place July 28th and 29th at the Beardmore Event Center in Omaha\, NE. Ignite ‘22 is for Christians with a passion for business\, leadership and serving others\, including: \nBusiness Owners and Entrepreneurs\nBusiness Executives and Leaders\nEmployees who aspire to become leaders\nJob seekers who want to excel and serve others \nOur mission is to connect the faith-filled business community in new ways where we can learn from one another\, grow our businesses\, and create life-long relationships. \nSpeakers will include:\nStrategist\, Futurist\, and Thought Leader\, Dr. Lance Wallnau\nKevin Jessup\, president of Global Strategic Alliance\nJerry Perera of the Leyden Preservation Group\nPastors Hank and Brenda Kunneman of Lord of Hosts Church\nHealth Freedom Advocate\, Dr. Ben Tapper\nMindset Disruption Strategist\, Eric L Dunavant\nChief Marketing Officer\, Michael LaBroad\nDesiree Bougher\, President of Xtreme Recognition \nSpecial Music and Worship will be provided by multi-grammy nominated members of the Grand Ole Opry\, The Isaacs\, and Jasmine Christmas Brady of Regeneration Nashville. \nOther special guests to take the stage: Holly Jochims\, Rich Bontrager\, Theresa Bradley\, Brian Searcy\, Megan Swanson\, Eric M. Johnson\, Sarah Brewer\, and Steve Manko. \nThis event was made possible by partnering with Patriot Mobile\, XR Outfitters and many others.
URL:https://lancewallnau.com/event/ignite-22/
ATTACH;FMTTYPE=image/png:https://lancewallnau.com/wp-content/uploads/2022/05/I22-Header@3x.png
END:VEVENT
BEGIN:VEVENT
DTSTART;VALUE=DATE:20220324
DTEND;VALUE=DATE:20220327
DTSTAMP:20260425T111418
CREATED:20211227T162330Z
LAST-MODIFIED:20211227T163157Z
UID:27115-1648080000-1648339199@lancewallnau.com
SUMMARY:The Encounter OKC
DESCRIPTION:Join Lance Wallnau\, Andrew Wommack\, Stevan and Rebekah Cunningham\, Mario Murillo\, and Marcus and Sharon Wick in OKC on March 24-26th for an incredible Encounter event!
URL:https://lancewallnau.com/event/the-encounter-okc/
LOCATION:Crossroads Church\, 8901 S Shields Blvd\, Oklahoma City\, OK\, 73149\, United States
ATTACH;FMTTYPE=image/png:https://lancewallnau.com/wp-content/uploads/2021/12/Encounter2022PIC.png
ORGANIZER;CN="Crowned One Ministries":MAILTO:info@crownedoneministries.com
END:VEVENT
BEGIN:VEVENT
DTSTART;VALUE=DATE:20220218
DTEND;VALUE=DATE:20220221
DTSTAMP:20260425T111418
CREATED:20220113T225206Z
LAST-MODIFIED:20220113T225206Z
UID:27320-1645142400-1645401599@lancewallnau.com
SUMMARY:Wealthbuilders Conference 2022
DESCRIPTION:Do you want to press into God’s calling for your life? Then come join me at the annual WealthBuilders Conference\, February 18-20\, 2022! The Conference sessions are designed to give you practical steps about how you can make a difference for the Kingdom of God. Come get equipped with practical knowledge about how to build wealth and have influence in the areas of business\, real estate\, and investing. \nThe conference speakers (including myself) are successful entrepreneurs\, active investors\, pastors\, and experts on business as mission. We are excited to teach you how to combine your faith and finances so you can have a greater influence. Click the link below and use my special code WBLANCE to get 20% off your ticket! \nhttps://billyepperhart.lpages.co/wealthbuilders-conference-2022/
URL:https://lancewallnau.com/event/wealthbuilders-conference-2022/
LOCATION:The Denver Marriott South at Park Meadows\, 10345 Park Meadows Drive\, Lone Tree\, CO\, 80124-5345\, United States
ATTACH;FMTTYPE=image/png:https://lancewallnau.com/wp-content/uploads/2022/01/Social-Media-Graphic.png
ORGANIZER;CN="Wealthbuilders":MAILTO:info@wealthbuilders.org
END:VEVENT
BEGIN:VEVENT
DTSTART;TZID=America/Phoenix:20220120T190000
DTEND;TZID=America/Phoenix:20220122T123000
DTSTAMP:20260425T111418
CREATED:20220113T195947Z
LAST-MODIFIED:20220113T195947Z
UID:27316-1642705200-1642854600@lancewallnau.com
SUMMARY:Start the Year Off Right - 2022
DESCRIPTION:The turbulence of our times requires that we can hear clearly from the Lord for ourselves – and that we understand what is really happening in the world today from God's perspective. Now more than ever we need to rightly discern the times we are living in and know how to prepare for what is coming.\nWe're excited and honored to have Cindy Jacobs\, Dutch Sheets\, Chuck Pierce\, Lance Wallnau\, and Will & Dehavilland Ford as our featured speakers this year.\nThese men and women have a long track record of hearing the Lord accurately and releasing a powerful impartation for prayer and the prophetic.\nCome expecting to receive fresh fire on the altar of your heart and renewed hope and courage for the season ahead!\nFREE General Conference Sessions (Thursday and Friday PM and Saturday AM) REGISTRATION REQUIRED for all sessions! One registration gets you into all free sessions.
URL:https://lancewallnau.com/event/start-the-year-off-right-2022/
LOCATION:Zion City Church\, 2561 Ruthrauff Rd\, Tucson\, AZ\, 85705\, United States
ATTACH;FMTTYPE=image/jpeg:https://lancewallnau.com/wp-content/uploads/2022/01/https___cdn.evbuc_.com_images_192184399_28399678841_1_original.jpg
END:VEVENT
BEGIN:VEVENT
DTSTART;VALUE=DATE:20211118
DTEND;VALUE=DATE:20211122
DTSTAMP:20260425T111418
CREATED:20211111T151212Z
LAST-MODIFIED:20211111T151212Z
UID:26618-1637193600-1637539199@lancewallnau.com
SUMMARY:The Encounter Event in Cincinnati
DESCRIPTION:Join Marcus and Sharon Wick\, Dr. Lance Wallnau\, Lucas Miles and Daniel Amstutz as they minister at the Encounter Conference!
URL:https://lancewallnau.com/event/the-encounter-event-in-cincinnati/
LOCATION:LifeChurch\, 8480 Cincinnati-Columbus Rd.\, West Chester\, OH\, 45069\, United States
ATTACH;FMTTYPE=image/png:https://lancewallnau.com/wp-content/uploads/2021/11/unnamed.png
ORGANIZER;CN="Marcus Wick Ministries":MAILTO:marcuswickministries@gmail.com
END:VEVENT
BEGIN:VEVENT
DTSTART;VALUE=DATE:20210924
DTEND;VALUE=DATE:20210927
DTSTAMP:20260425T111418
CREATED:20210803T183537Z
LAST-MODIFIED:20210803T183537Z
UID:25821-1632441600-1632700799@lancewallnau.com
SUMMARY:AGLOW International in Orlando\, FL
DESCRIPTION:Our 2021 Aglow Conference will be held in Orlando Florida\, Sept. 24-26. We are excited to have our friends Dutch Sheets and Lance Wallnau with us for this important event as we RESET for the future. We are indeed at a crossroads\, on the cusp of the Third Day Awakening. Make plans now to join us in beautiful Orlando! \nDates: Friday\, Sept. 24 – Sunday\, Sept. 26\, 2021\nLocation: Orlando\, Florida.\nCost: $175 (Registration fee includes Global Partner discount\, extended to everyone\, this year only.)
URL:https://lancewallnau.com/event/aglow-international-in-orlando-fl/
ATTACH;FMTTYPE=image/jpeg:https://lancewallnau.com/wp-content/uploads/2021/08/2021_conference_theme_PAGE_banner_800px.jpg
END:VEVENT
BEGIN:VEVENT
DTSTART;TZID=America/Detroit:20210917T190000
DTEND;TZID=America/Detroit:20210918T130000
DTSTAMP:20260425T111418
CREATED:20210903T192757Z
LAST-MODIFIED:20210903T192757Z
UID:26108-1631905200-1631970000@lancewallnau.com
SUMMARY:Let the Trumpets Sound!
DESCRIPTION:The trumpets are sounding! \nThis is a strategic time and place to gather for hearing from the Lord and prophesying to the nations. \nCome hear what the Lord is saying and let your trumpet sound! \nMake plans to attend this special gathering with Chuck Pierce\, Dr. Lance Wallnau\, and Ramiro Peña. \nPreregistration Closes September 12\, 2021. \nHosted by Ramiro Peña Ministries. \nRegistration\nPreregistration $49 before September 12th\nRegistration at the door $59
URL:https://lancewallnau.com/event/let-the-trumpets-sound/
LOCATION:Church of the Open Door\, 900 TX-340 Loop\, Waco\, TX\, 76705\, United States
ATTACH;FMTTYPE=image/jpeg:https://lancewallnau.com/wp-content/uploads/2021/09/medium_image-1630548662684.jpg
END:VEVENT
BEGIN:VEVENT
DTSTART;TZID=America/Chicago:20210916T190000
DTEND;TZID=America/Chicago:20210919T190000
DTSTAMP:20260425T111418
CREATED:20210803T182421Z
LAST-MODIFIED:20210803T182421Z
UID:25816-1631818800-1632078000@lancewallnau.com
SUMMARY:Opening the Heavens 2021 Conference with Hank Kunneman
DESCRIPTION:The Opening the Heavens Conference is an annual\, multi-day event where the prophetic heart of God and the manifestation of His supernatural power are demonstrated to those in attendance and viewing online around the world! \n​ \nHosted by Pastors Hank and Brenda Kunneman of Lord of Hosts Church and One Voice Ministries in Omaha\, Nebraska\, this year's conference is titled “202WON: Year of Victory.” It's time to get ready for the revolution of light!
URL:https://lancewallnau.com/event/opening-the-heavens-2021-conference-with-hank-kunneman/
LOCATION:Mid-America Center\, 1 Arena Way\, Council Bluffs\, IA\, 51501\, United States
ATTACH;FMTTYPE=image/png:https://lancewallnau.com/wp-content/uploads/2021/08/Screen-Shot-2021-08-03-at-1.22.59-PM.png
END:VEVENT
BEGIN:VEVENT
DTSTART;TZID=America/Detroit:20210705T190000
DTEND;TZID=America/Detroit:20210709T120000
DTSTAMP:20260425T111418
CREATED:20210608T184832Z
LAST-MODIFIED:20210608T184832Z
UID:25312-1625511600-1625832000@lancewallnau.com
SUMMARY:Summer Family Bible Conference
DESCRIPTION:Pack your bags and book your flight. Summer fun awaits you and your family in the mountains of Colorado this July! \nSpend five powerful days—July 5–9—under teaching from Andrew Wommack and other anointed speakers. Along with life-changing revelations\, you’ll get to experience daily worship led by Charlie and Jill LeBlanc as well as Daniel Amstutz and Charis Worship. \nYou’ll be immersed in an empowering environment with believers of like faith from all over the world. You will get to meet and fellowship with some of the world’s most gifted teachers and ministers\, who have brought powerful\, timely words for you. And you get to experience it all in the heart of the Pikes Peak region\, in the beautiful town of Woodland Park\, Colorado. It’s a summer adventure that can’t be beat! \nYour kids\, too\, are in for the time of their lives at this year’s conference as they go on an adventure with God! All children and youth activities are tailor-made for each age group and include music\, ministry\, and opportunities for powerful encounters with the Creator. This is taking vacation Bible school to the next level! \nDuring the event\, you can take tours of both The Barn and The Auditorium\, and there will also be an opportunity to attend Healing School\, where you will learn how to both receive and minister healing. When you’re not inside soaking up the Word\, enjoy the breathtaking scenery on the Charis Bible College campus. Offsite\, the town of Woodland Park—known as The City Above the Clouds—offers camping\, hiking\, fishing\, and more. \nThe surrounding Pikes Peak region offers endless attractions and outdoor activities you and your family can enjoy: \nGarden of the Gods Park\nCheyenne Mountain Zoo\nCave of the Winds Mountain Park\nManitou Cliff Dwellings\nS. Olympic & Paralympic Training Center\nAir Force Academy\nAnd so much more! \nThis is a free event\, but online registration is required for children (ages 5–12) and youth (ages 13–17). Children under five years old are welcome; however\, childcare will not be provided. \nOn Wednesday\, July 7\, your whole family is invited to a special barbecue to celebrate America and our freedom. Barbecue tickets are available for purchase when you register. \nCome early for our special Independence Day musical! \nOn July 4th—the day before the Summer Family Bible Conference kicks off—we will celebrate Independence Day with our In God We Trust musical! This epic production tells the tale of America through the story of a small church in Arlington\, Texas. Come honor those who have fought and died for our freedom with this amazing show! \nWe can’t wait to see you this summer!
URL:https://lancewallnau.com/event/summer-family-bible-conference/
LOCATION:The Auditorium\, 800 Gospel Truth Way\, Woodland Park\, CO\, 80863\, United States
ATTACH;FMTTYPE=image/png:https://lancewallnau.com/wp-content/uploads/2021/06/Screen-Shot-2021-06-08-at-1.47.19-PM.png
ORGANIZER;CN="Andrew Wommack Ministries":MAILTO:info@awmi.net
END:VEVENT
BEGIN:VEVENT
DTSTART;TZID=America/Chicago:20210624T190000
DTEND;TZID=America/Chicago:20210626T120000
DTSTAMP:20260425T111418
CREATED:20210608T161813Z
LAST-MODIFIED:20210608T161813Z
UID:25307-1624561200-1624708800@lancewallnau.com
SUMMARY:Reclaiming the Family Mountain
DESCRIPTION:
URL:https://lancewallnau.com/event/reclaiming-the-family-mountain/
LOCATION:Church On The Rock\, 1780 W Memorial Rd\, Oklahoma City\, OK\, 73134\, United States
ATTACH;FMTTYPE=image/png:https://lancewallnau.com/wp-content/uploads/2021/06/Screen-Shot-2021-06-08-at-11.15.47-AM.png
END:VEVENT
END:VCALENDAR