BEGIN:VCALENDAR
VERSION:2.0
PRODID:-//Lance Wallnau - ECPv6.9.1//NONSGML v1.0//EN
CALSCALE:GREGORIAN
METHOD:PUBLISH
X-WR-CALNAME:Lance Wallnau
X-ORIGINAL-URL:https://lancewallnau.com
X-WR-CALDESC:Events for Lance Wallnau
REFRESH-INTERVAL;VALUE=DURATION:PT1H
X-Robots-Tag:noindex
X-PUBLISHED-TTL:PT1H
BEGIN:VTIMEZONE
TZID:America/Chicago
BEGIN:DAYLIGHT
TZOFFSETFROM:-0600
TZOFFSETTO:-0500
TZNAME:CDT
DTSTART:20250309T080000
END:DAYLIGHT
BEGIN:STANDARD
TZOFFSETFROM:-0500
TZOFFSETTO:-0600
TZNAME:CST
DTSTART:20251102T070000
END:STANDARD
TZID:America/Detroit
BEGIN:DAYLIGHT
TZOFFSETFROM:-0500
TZOFFSETTO:-0400
TZNAME:EDT
DTSTART:20250309T070000
END:DAYLIGHT
BEGIN:STANDARD
TZOFFSETFROM:-0400
TZOFFSETTO:-0500
TZNAME:EST
DTSTART:20251102T060000
END:STANDARD
BEGIN:DAYLIGHT
TZOFFSETFROM:-0500
TZOFFSETTO:-0400
TZNAME:EDT
DTSTART:20260308T070000
END:DAYLIGHT
BEGIN:STANDARD
TZOFFSETFROM:-0400
TZOFFSETTO:-0500
TZNAME:EST
DTSTART:20261101T060000
END:STANDARD
TZID:America/Jamaica
BEGIN:STANDARD
TZOFFSETFROM:-0500
TZOFFSETTO:-0500
TZNAME:EST
DTSTART:20250101T000000
END:STANDARD
TZID:Asia/Jerusalem
BEGIN:DAYLIGHT
TZOFFSETFROM:+0200
TZOFFSETTO:+0300
TZNAME:IDT
DTSTART:20250328T000000
END:DAYLIGHT
BEGIN:STANDARD
TZOFFSETFROM:+0300
TZOFFSETTO:+0200
TZNAME:IST
DTSTART:20251025T230000
END:STANDARD
TZID:America/Boise
BEGIN:DAYLIGHT
TZOFFSETFROM:-0700
TZOFFSETTO:-0600
TZNAME:MDT
DTSTART:20260308T090000
END:DAYLIGHT
BEGIN:STANDARD
TZOFFSETFROM:-0600
TZOFFSETTO:-0700
TZNAME:MST
DTSTART:20261101T080000
END:STANDARD
TZID:America/New_York
BEGIN:DAYLIGHT
TZOFFSETFROM:-0500
TZOFFSETTO:-0400
TZNAME:EDT
DTSTART:20260308T070000
END:DAYLIGHT
BEGIN:STANDARD
TZOFFSETFROM:-0400
TZOFFSETTO:-0500
TZNAME:EST
DTSTART:20261101T060000
END:STANDARD
TZID:America/Phoenix
BEGIN:STANDARD
TZOFFSETFROM:-0700
TZOFFSETTO:-0700
TZNAME:MST
DTSTART:20260101T000000
END:STANDARD
END:VTIMEZONE
BEGIN:VEVENT
DTSTART;VALUE=DATE:20250829
DTEND;VALUE=DATE:20250901
DTSTAMP:20260425T073951
CREATED:20250821T002726Z
LAST-MODIFIED:20250821T010920Z
UID:47993-1756425600-1756684799@lancewallnau.com
SUMMARY:WOW Life Financial Flow - Fort Worth\, Texas
DESCRIPTION:Did you enjoy Financial Flow last year? Get ready for Financial Flow 2025 with Dave Hodgson\, Lance Wallnau\, Georgian & Winnie Banov\, Manju Haththotuwa\, Kirby & Fiona de Lanerolle! \n\n\n\nWhere Is This Event? \n\n\n\n\n\n\nTexas Motor Speedway \n3545 Lone Star Cir\, Fort Worth\, TX 76177 \n\n\n\n\n\n\nWhen Is This Event? \n\n\n\n\n\n\nAugust 29 – August 31\, 2025 \nLance Wallnau speaking session: Sunday\, August 31st at 10am. \nThere are tentatively 3 sessions daily at 10:00am\, 2:00pm\, and 7:00pm. Times are subject to change. Final session times will be added to the Mighty Networks space as we get closer to the event. \n\n\n\nThis event will take place in August 2025 and promises to bring even more insights into biblical economics and strategies for thriving in the modern world. \nFor more information and to register\, visit: https://wowlifeworld.com/ff2025
URL:https://lancewallnau.com/event/wow-life-financial-flow-fort-worth-texas/
LOCATION:Texas Motor Speedway
ATTACH;FMTTYPE=image/webp:https://lancewallnau.com/wp-content/uploads/2025/08/tmpp_8yzl0z.webp
END:VEVENT
BEGIN:VEVENT
DTSTART;TZID=America/Detroit:20250911T190000
DTEND;TZID=America/Detroit:20250914T130000
DTSTAMP:20260425T073951
CREATED:20250911T060117Z
LAST-MODIFIED:20250911T060117Z
UID:48241-1757617200-1757854800@lancewallnau.com
SUMMARY:FlashPoint LIVE at Opening The Heavens Conference - Council Bluffs\, IA
DESCRIPTION:Join us at the Mid-America Center in Council Bluffs\, IA\, September 11-14 for Opening the Heavens Conference 2025!  We’re heading back to the arena for a divine appointment of God’s remnant to boldly release the sound of the year of the Lord's Fight!\n\n\n\n\n…and the Egyptians said\, “Let us flee from the face of Israel\, for the Lord fights for them against the Egyptians.” \nExodus 14:25 \nConference Hosts Pastors Hank and Brenda Kunneman will be welcoming an anointed lineup of guest speakers including Gene Bailey\, Isaac Pitre\, Kent Christmas\, Tony Suarez\, Tim Sheets\, and Lorenzo Sewell! Also\, be sure to join us on opening night for a special FlashPoint LIVE to kick off the conference with a bang!  \nDon’t miss this prophetic moment in time to unite with other fellow believers to usher in the supernatural outpouring of God’s glory in this pivotal season! \n\n*Lance Wallnau speaking at FlashPoint LIVE on Thursday\, September 11th.* \n\n\nFor more information and to register\, visit: https://www.openingtheheavens.org/
URL:https://lancewallnau.com/event/flashpoint-live-at-opening-the-heavens-conference-council-bluffs-ia/
LOCATION:Mid America Center\, 1 Arena Way\, Council Bluffs\, IA\, 51501-6991\, United States
ATTACH;FMTTYPE=image/webp:https://lancewallnau.com/wp-content/uploads/2025/09/UpdatedIowaHorizontal.webp
END:VEVENT
BEGIN:VEVENT
DTSTART;TZID=America/Chicago:20250912T190000
DTEND;TZID=America/Chicago:20250914T123000
DTSTAMP:20260425T073951
CREATED:20250913T150148Z
LAST-MODIFIED:20250913T150502Z
UID:48244-1757703600-1757853000@lancewallnau.com
SUMMARY:Destiny Weekend - Southlake\, Texas
DESCRIPTION:Unlock Your God-Given Destiny\n\n\n\n\n\n\n\n\n\nThis weekend features all-new content from Lance Wallnau that guarantees a whole new experience. What should you expect? You will have a rare prophetic encounter with the future you—and walk away with a million dollar blueprint.\n\n  \n\n\n\n\nVenue: \nDelta Hotels Dallas Southlake\n251 E State Hwy 114\, Southlake\, TX 76092\, USA \nSchedule: \nFriday\, September 12-Saturday\, September 14 2025 \nFor more information and to register\, visit: lancewallnau.com/dw
URL:https://lancewallnau.com/event/destiny-weekend-southlake-texas/
LOCATION:TX
ATTACH;FMTTYPE=image/png:https://lancewallnau.com/wp-content/uploads/2025/09/Partner-Webinar-Backgrounds-4-1.png
END:VEVENT
BEGIN:VEVENT
DTSTART;TZID=America/Chicago:20250918T190000
DTEND;TZID=America/Chicago:20250920T210000
DTSTAMP:20260425T073951
CREATED:20250821T010419Z
LAST-MODIFIED:20250821T010829Z
UID:47996-1758222000-1758402000@lancewallnau.com
SUMMARY:Wealth With God The Big Event - Austin\, Texas
DESCRIPTION:A KINGDOM WEALTH BUILDERS FAMILY REUNION MEETS STRATEGY SESSIONS MEETS REVIVAL SERVICE \n\n\n\n\n\n\nTHE BIG EVENT 2025 IS FOR YOU IF…\n\n\n\n\n\n\n\n\n\n\n\n\nYou want to ensure you experience the full and complete blessings the Lord has planned for you and your life.\n\n\n\n\n\n\n\n\n\n\n\n\n\n\n\nYou recognize the Lord wants you to prosper so He can work through your finances to further His Kingdom.\n\n\n\n\n\n\n\n\n\n\n\n\n\n\n\nYou're eager to have the Lord equip you to impact others and the world around you.\n\n\n\n\n\n\n\n\n\n\n\n\n\n\n\nYou're motivated to get out of debt and gain financial stability so you can be even more generous in your giving to others.\n\n\n\n\n\n\n\n\n\n\n\n\n\nYou'd like more time and autonomy to do what God has called you to do.\n\n\n\n\n\n\n\n\n\n\n\n\n\n\n\nYou want to build wealth (the right way) so God can use you to be a blessing to those in need around you.\n\n\n\n\n\n\n\n\n\n\n\n\n\n\n\nYou feel a powerful sense of purpose for your life… and would love to partner with God so you have the provision to live it out.\n  \nLocation:  \nBethel Church Austin \n7901 E Riverside Dr \nAustin\, TX 78744 \n\nSchedule:  \nThursday\, September 18-Saturday\, September 20 \nLance Wallnau speaking session: Thursday\, September 18th at 7PM. \n\nFor information and to register\, visit: https://pages.wealthwithgod.com/big-event-2025-t-details-c
URL:https://lancewallnau.com/event/wealth-with-god-big-event-austin-texas/
LOCATION:Bethel Church Austin\, 7901 E Riverside Dr\, Austin\, TX\, 78744\, United States
ATTACH;FMTTYPE=image/png:https://lancewallnau.com/wp-content/uploads/2025/08/hero-1.png
END:VEVENT
BEGIN:VEVENT
DTSTART;TZID=America/Jamaica:20250920T160000
DTEND;TZID=America/Jamaica:20250920T200000
DTSTAMP:20260425T073951
CREATED:20250913T154926Z
LAST-MODIFIED:20250913T154926Z
UID:48247-1758384000-1758398400@lancewallnau.com
SUMMARY:Pinnacle Conference - Kingston\, Jamaica
DESCRIPTION:Pinnacle Conference & Awards Ceremony\nJoin world-renowned voices and visionary leaders for an unforgettable experience that will elevate your faith\, sharpen your strategy\, and position you for impact in 2025 and beyond. \nWHY ATTEND PINNACLE CONFERENCE 2025? \nAt Pinnacle\, you’ll gain: \n– Proven strategies to thrive in business\, leadership\, and ministry.\n– Prophetic insights to navigate today’s challenges with wisdom and confidence.\n– Kingdom connections with high-impact leaders from across the globe.\n– Practical tools to multiply your influence and expand your impact. \nThis isn’t just another event—it’s a launchpad for your calling. \n\n\nShortwood Teacher's College Auditorium Kingston 8\n77 Shortwood Road Kingston 8\, Kingston\, Jamaica\nSaturday\, September 20\, 2025 \nTIME: 4:00 pm to 8:00 pm\n\n\n\n\n\n\nHosted by: Kingdom Keepers Ltd.\n8763942474 | chrispmorgan@yahoo.com\n\n\n\n  \nFor more information and to register\, click here. \nhttps://spurropen.com/pinnaclecon2025
URL:https://lancewallnau.com/event/pinnacle-conference-kingston-jamaica/
LOCATION:Shortwood Teacher’s College Auditorium\, 77 Shortwood Rd Kingston 8\, Kingston\, Jamaica
ATTACH;FMTTYPE=image/jpeg:https://lancewallnau.com/wp-content/uploads/2025/09/f8d5fef0-84f9-495b-b965-54ad12a87605.jpg
END:VEVENT
BEGIN:VEVENT
DTSTART;VALUE=DATE:20250928
DTEND;VALUE=DATE:20251003
DTSTAMP:20260425T073951
CREATED:20250913T160243Z
LAST-MODIFIED:20250913T160243Z
UID:48251-1759017600-1759449599@lancewallnau.com
SUMMARY:All Nations Convocation - Jerusalem\, Israel
DESCRIPTION:Lance will be speaking/ministering from September 28-October 2 at All Nations Convocation in Jerusalem at the Ramat Rachel Hotel & Conference Center. \nOn site registration available! \nFor more info\, email: ANCJ@jhopfan.org
URL:https://lancewallnau.com/event/all-nations-convocation-jerusalem-israel/
LOCATION:TX
END:VEVENT
BEGIN:VEVENT
DTSTART;TZID=America/Detroit:20251031T190000
DTEND;TZID=America/Detroit:20251101T220000
DTSTAMP:20260425T073951
CREATED:20250926T195030Z
LAST-MODIFIED:20251013T161737Z
UID:48379-1761937200-1762034400@lancewallnau.com
SUMMARY:Exclusive Partner Weekend | October 31 – November 1\, 2025
DESCRIPTION:Join Lance and Annabelle for an intimate two-day gathering of friends\, partners\, and ministry supporters. Held over Reformation Day\, this special weekend is a time of deep connection\, celebration\, and fresh prophetic insight for the season ahead. Come hear what’s on their hearts as we align\, advance\, and walk together into what’s next. \nRegister now for this incredible event: lancewallnau.com/partnerparty
URL:https://lancewallnau.com/event/exclusive-partner-weekend-october-31-november-1-2025/
LOCATION:Dallas/ Fort Worth
ATTACH;FMTTYPE=image/jpeg:https://lancewallnau.com/wp-content/uploads/2025/09/partner-party.jpg
END:VEVENT
BEGIN:VEVENT
DTSTART;TZID=America/Detroit:20251108T080000
DTEND;TZID=America/Detroit:20251108T170000
DTSTAMP:20260425T073951
CREATED:20251107T234950Z
LAST-MODIFIED:20251107T234950Z
UID:48967-1762588800-1762621200@lancewallnau.com
SUMMARY:Faith\, Civic Engagement And The 2026 Midterms - Owasso\, Michigan
DESCRIPTION:CTV Shiawassee County Hosts : Faith\, Civic Engagement\, and the 2026 Midterms\nConference and Briefing \nSATURDAY\, November 8th\, 2025 \n8 am & 3 pm VIP Events & 9:30 am to 2:30 pm Conference ( \nLocation: \nThe Z Hall \n1775 Owosso Ave\, Owosso\, MI 48867 \n 
URL:https://lancewallnau.com/event/faith-civic-engagement-and-the-2026-midterms-owasso-michigan/
LOCATION:TX
ATTACH;FMTTYPE=image/jpeg:https://lancewallnau.com/wp-content/uploads/2025/11/IMG_6719.jpeg
END:VEVENT
BEGIN:VEVENT
DTSTART;TZID=America/Boise:20260312T190000
DTEND;TZID=America/Boise:20260312T190000
DTSTAMP:20260425T073951
CREATED:20260311T154358Z
LAST-MODIFIED:20260311T154358Z
UID:50466-1773342000-1773342000@lancewallnau.com
SUMMARY:FlashPoint LIVE Boise\, Idaho | March 12th
DESCRIPTION:
URL:https://lancewallnau.com/event/flashpoint-live-boise-idaho-march-12th-2/
LOCATION:Awaken Church
ATTACH;FMTTYPE=image/webp:https://lancewallnau.com/wp-content/uploads/2026/03/FP.webp
END:VEVENT
BEGIN:VEVENT
DTSTART;TZID=America/Detroit:20260314T083000
DTEND;TZID=America/Detroit:20260314T083000
DTSTAMP:20260425T073951
CREATED:20260311T141101Z
LAST-MODIFIED:20260311T154847Z
UID:50434-1773477000-1773477000@lancewallnau.com
SUMMARY:Elevate Prophetic Conference | March 14th
DESCRIPTION:
URL:https://lancewallnau.com/event/elevate-prophetic-conference-march-14th/
LOCATION:The Shepherd’s House\, 225 Milton St.\, Lewisville\, TX\, 75057\, United States
ATTACH;FMTTYPE=image/png:https://lancewallnau.com/wp-content/uploads/2026/03/Screenshot-2026-03-11-at-10.46.25-AM-scaled.png
END:VEVENT
BEGIN:VEVENT
DTSTART;TZID=America/New_York:20260321T170000
DTEND;TZID=America/New_York:20260321T170000
DTSTAMP:20260425T073951
CREATED:20260311T141742Z
LAST-MODIFIED:20260311T154955Z
UID:50436-1774112400-1774112400@lancewallnau.com
SUMMARY:Victory\, A Church of His presence | March 21st
DESCRIPTION:
URL:https://lancewallnau.com/event/victory-a-church-of-his-presence-march-21st/
LOCATION:Victory\, 5250 17th St\, Sarasota\, FL\, 34235\, United States
ATTACH;FMTTYPE=image/jpeg:https://lancewallnau.com/wp-content/uploads/2026/03/victory.jpg
END:VEVENT
BEGIN:VEVENT
DTSTART;VALUE=DATE:20260402
DTEND;VALUE=DATE:20260404
DTSTAMP:20260425T073951
CREATED:20260311T144111Z
LAST-MODIFIED:20260311T155502Z
UID:50439-1775088000-1775260799@lancewallnau.com
SUMMARY:Passover Glory Conference | April 2nd & 3rd
DESCRIPTION:
URL:https://lancewallnau.com/event/passover-glory-conference-april-2nd-3rd/
LOCATION:David Herzog Ministries\, 450 S Hamilton St\, Chandler\, AZ\, 85225\, United States
ATTACH;FMTTYPE=image/webp:https://lancewallnau.com/wp-content/uploads/2026/03/passover.webp
END:VEVENT
BEGIN:VEVENT
DTSTART;TZID=America/Detroit:20260405T083000
DTEND;TZID=America/Detroit:20260405T083000
DTSTAMP:20260425T073951
CREATED:20260403T152522Z
LAST-MODIFIED:20260403T152947Z
UID:50734-1775377800-1775377800@lancewallnau.com
SUMMARY:Vida Church
DESCRIPTION:8:30am – English | \n10am – English | \n11:45am – Spanish with translation.
URL:https://lancewallnau.com/event/vida-church/
LOCATION:Vida Church\, 319 N 64th St\, Mesa\, AZ\, 85205\, United States
ATTACH;FMTTYPE=image/png:https://lancewallnau.com/wp-content/uploads/2026/04/Screenshot-2026-04-03-at-10.21.45-AM.png
END:VEVENT
BEGIN:VEVENT
DTSTART;VALUE=DATE:20260422
DTEND;VALUE=DATE:20260425
DTSTAMP:20260425T073951
CREATED:20260408T184533Z
LAST-MODIFIED:20260408T184533Z
UID:50748-1776816000-1777075199@lancewallnau.com
SUMMARY:Face 2 Face: When Heaven Breaks In (MFM Retreat) | April 22 - 24
DESCRIPTION:
URL:https://lancewallnau.com/event/face-2-face-when-heaven-breaks-in-mfm-retreat-april-22-24/
LOCATION:Heritage Conference Center\, 375 Starlight Dr\, Fort Mill\, 29715\, United States
ATTACH;FMTTYPE=image/png:https://lancewallnau.com/wp-content/uploads/2026/04/Screenshot-2026-04-08-at-1.40.26-PM-scaled.png
END:VEVENT
BEGIN:VEVENT
DTSTART;VALUE=DATE:20260502
DTEND;VALUE=DATE:20260503
DTSTAMP:20260425T073951
CREATED:20260311T144329Z
LAST-MODIFIED:20260311T155744Z
UID:50442-1777680000-1777766399@lancewallnau.com
SUMMARY:Freedom Summit | May 2nd
DESCRIPTION:
URL:https://lancewallnau.com/event/freedom-summit-may-2nd/
LOCATION:Lifestyle Christianity University\, 7200 Denton Hwy\, Watauga\, TX\, 76148\, United States
ATTACH;FMTTYPE=image/png:https://lancewallnau.com/wp-content/uploads/2026/03/Screenshot-2026-03-11-at-10.56.48-AM.png
END:VEVENT
BEGIN:VEVENT
DTSTART;TZID=America/Detroit:20260503T100000
DTEND;TZID=America/Detroit:20260503T100000
DTSTAMP:20260425T073951
CREATED:20260409T153620Z
LAST-MODIFIED:20260409T153620Z
UID:50754-1777802400-1777802400@lancewallnau.com
SUMMARY:Global Presence: Leaders Advance | May 3rd
DESCRIPTION:
URL:https://lancewallnau.com/event/global-presence-leaders-advance-may-3rd/
LOCATION:The shop\, 144 Mount Gilead Rd\, Keller\, TX\, 76248\, United States
ATTACH;FMTTYPE=image/png:https://lancewallnau.com/wp-content/uploads/2026/04/Screenshot-2026-04-09-at-10.34.09-AM.png
END:VEVENT
BEGIN:VEVENT
DTSTART;VALUE=DATE:20260719
DTEND;VALUE=DATE:20260727
DTSTAMP:20260425T073951
CREATED:20260311T190217Z
LAST-MODIFIED:20260311T193213Z
UID:50476-1784419200-1785110399@lancewallnau.com
SUMMARY:Lance Wallnau Ministries Alaska Cruise | July 19th - July 26th
DESCRIPTION:
URL:https://lancewallnau.com/event/lance-wallnau-ministries-alaska-cruise-july-19th-july-26th/
LOCATION:TX
ATTACH;FMTTYPE=image/jpeg:https://lancewallnau.com/wp-content/uploads/2026/03/hf_20260225_185124_e9419cae-a4d9-4a65-b94a-ce3cf1e6b095-scaled.jpeg
END:VEVENT
END:VCALENDAR