BEGIN:VCALENDAR
VERSION:2.0
PRODID:-//Lance Wallnau - ECPv6.9.1//NONSGML v1.0//EN
CALSCALE:GREGORIAN
METHOD:PUBLISH
X-WR-CALNAME:Lance Wallnau
X-ORIGINAL-URL:https://lancewallnau.com
X-WR-CALDESC:Events for Lance Wallnau
REFRESH-INTERVAL;VALUE=DURATION:PT1H
X-Robots-Tag:noindex
X-PUBLISHED-TTL:PT1H
BEGIN:VTIMEZONE
TZID:America/Boise
BEGIN:DAYLIGHT
TZOFFSETFROM:-0700
TZOFFSETTO:-0600
TZNAME:MDT
DTSTART:20260308T090000
END:DAYLIGHT
BEGIN:STANDARD
TZOFFSETFROM:-0600
TZOFFSETTO:-0700
TZNAME:MST
DTSTART:20261101T080000
END:STANDARD
END:VTIMEZONE
BEGIN:VEVENT
DTSTART;TZID=America/Boise:20260312T190000
DTEND;TZID=America/Boise:20260312T190000
DTSTAMP:20260424T114126
CREATED:20260311T154358Z
LAST-MODIFIED:20260311T154358Z
UID:50466-1773342000-1773342000@lancewallnau.com
SUMMARY:FlashPoint LIVE Boise\, Idaho | March 12th
DESCRIPTION:
URL:https://lancewallnau.com/event/flashpoint-live-boise-idaho-march-12th-2/
LOCATION:Awaken Church
ATTACH;FMTTYPE=image/webp:https://lancewallnau.com/wp-content/uploads/2026/03/FP.webp
END:VEVENT
END:VCALENDAR