BEGIN:VCALENDAR
VERSION:2.0
PRODID:-//Lance Wallnau - ECPv6.9.1//NONSGML v1.0//EN
CALSCALE:GREGORIAN
METHOD:PUBLISH
X-ORIGINAL-URL:https://lancewallnau.com
X-WR-CALDESC:Events for Lance Wallnau
REFRESH-INTERVAL;VALUE=DURATION:PT1H
X-Robots-Tag:noindex
X-PUBLISHED-TTL:PT1H
BEGIN:VTIMEZONE
TZID:Asia/Jerusalem
BEGIN:DAYLIGHT
TZOFFSETFROM:+0200
TZOFFSETTO:+0300
TZNAME:IDT
DTSTART:20250328T000000
END:DAYLIGHT
BEGIN:STANDARD
TZOFFSETFROM:+0300
TZOFFSETTO:+0200
TZNAME:IST
DTSTART:20251025T230000
END:STANDARD
END:VTIMEZONE
BEGIN:VEVENT
DTSTART;VALUE=DATE:20250928
DTEND;VALUE=DATE:20251003
DTSTAMP:20260424T194844
CREATED:20250913T160243Z
LAST-MODIFIED:20250913T160243Z
UID:48251-1759017600-1759449599@lancewallnau.com
SUMMARY:All Nations Convocation - Jerusalem\, Israel
DESCRIPTION:Lance will be speaking/ministering from September 28-October 2 at All Nations Convocation in Jerusalem at the Ramat Rachel Hotel & Conference Center. \nOn site registration available! \nFor more info\, email: ANCJ@jhopfan.org
URL:https://lancewallnau.com/event/all-nations-convocation-jerusalem-israel/
LOCATION:TX
END:VEVENT
END:VCALENDAR