BEGIN:VCALENDAR
VERSION:2.0
PRODID:-//Lance Wallnau - ECPv6.9.1//NONSGML v1.0//EN
CALSCALE:GREGORIAN
METHOD:PUBLISH
X-ORIGINAL-URL:https://lancewallnau.com
X-WR-CALDESC:Events for Lance Wallnau
REFRESH-INTERVAL;VALUE=DURATION:PT1H
X-Robots-Tag:noindex
X-PUBLISHED-TTL:PT1H
BEGIN:VTIMEZONE
TZID:America/Detroit
BEGIN:DAYLIGHT
TZOFFSETFROM:-0500
TZOFFSETTO:-0400
TZNAME:EDT
DTSTART:20250309T070000
END:DAYLIGHT
BEGIN:STANDARD
TZOFFSETFROM:-0400
TZOFFSETTO:-0500
TZNAME:EST
DTSTART:20251102T060000
END:STANDARD
TZID:America/Chicago
BEGIN:DAYLIGHT
TZOFFSETFROM:-0600
TZOFFSETTO:-0500
TZNAME:CDT
DTSTART:20250309T080000
END:DAYLIGHT
BEGIN:STANDARD
TZOFFSETFROM:-0500
TZOFFSETTO:-0600
TZNAME:CST
DTSTART:20251102T070000
END:STANDARD
END:VTIMEZONE
BEGIN:VEVENT
DTSTART;TZID=America/Detroit:20250911T190000
DTEND;TZID=America/Detroit:20250914T130000
DTSTAMP:20260424T212551
CREATED:20250911T060117Z
LAST-MODIFIED:20250911T060117Z
UID:48241-1757617200-1757854800@lancewallnau.com
SUMMARY:FlashPoint LIVE at Opening The Heavens Conference - Council Bluffs\, IA
DESCRIPTION:Join us at the Mid-America Center in Council Bluffs\, IA\, September 11-14 for Opening the Heavens Conference 2025!  We’re heading back to the arena for a divine appointment of God’s remnant to boldly release the sound of the year of the Lord's Fight!\n\n\n\n\n…and the Egyptians said\, “Let us flee from the face of Israel\, for the Lord fights for them against the Egyptians.” \nExodus 14:25 \nConference Hosts Pastors Hank and Brenda Kunneman will be welcoming an anointed lineup of guest speakers including Gene Bailey\, Isaac Pitre\, Kent Christmas\, Tony Suarez\, Tim Sheets\, and Lorenzo Sewell! Also\, be sure to join us on opening night for a special FlashPoint LIVE to kick off the conference with a bang!  \nDon’t miss this prophetic moment in time to unite with other fellow believers to usher in the supernatural outpouring of God’s glory in this pivotal season! \n\n*Lance Wallnau speaking at FlashPoint LIVE on Thursday\, September 11th.* \n\n\nFor more information and to register\, visit: https://www.openingtheheavens.org/
URL:https://lancewallnau.com/event/flashpoint-live-at-opening-the-heavens-conference-council-bluffs-ia/
LOCATION:Mid America Center\, 1 Arena Way\, Council Bluffs\, IA\, 51501-6991\, United States
ATTACH;FMTTYPE=image/webp:https://lancewallnau.com/wp-content/uploads/2025/09/UpdatedIowaHorizontal.webp
END:VEVENT
BEGIN:VEVENT
DTSTART;TZID=America/Chicago:20250912T190000
DTEND;TZID=America/Chicago:20250914T123000
DTSTAMP:20260424T212551
CREATED:20250913T150148Z
LAST-MODIFIED:20250913T150502Z
UID:48244-1757703600-1757853000@lancewallnau.com
SUMMARY:Destiny Weekend - Southlake\, Texas
DESCRIPTION:Unlock Your God-Given Destiny\n\n\n\n\n\n\n\n\n\nThis weekend features all-new content from Lance Wallnau that guarantees a whole new experience. What should you expect? You will have a rare prophetic encounter with the future you—and walk away with a million dollar blueprint.\n\n  \n\n\n\n\nVenue: \nDelta Hotels Dallas Southlake\n251 E State Hwy 114\, Southlake\, TX 76092\, USA \nSchedule: \nFriday\, September 12-Saturday\, September 14 2025 \nFor more information and to register\, visit: lancewallnau.com/dw
URL:https://lancewallnau.com/event/destiny-weekend-southlake-texas/
LOCATION:TX
ATTACH;FMTTYPE=image/png:https://lancewallnau.com/wp-content/uploads/2025/09/Partner-Webinar-Backgrounds-4-1.png
END:VEVENT
END:VCALENDAR