BEGIN:VCALENDAR
VERSION:2.0
PRODID:-//Lance Wallnau - ECPv6.9.1//NONSGML v1.0//EN
CALSCALE:GREGORIAN
METHOD:PUBLISH
X-WR-CALNAME:Lance Wallnau
X-ORIGINAL-URL:https://lancewallnau.com
X-WR-CALDESC:Events for Lance Wallnau
REFRESH-INTERVAL;VALUE=DURATION:PT1H
X-Robots-Tag:noindex
X-PUBLISHED-TTL:PT1H
BEGIN:VTIMEZONE
TZID:America/Los_Angeles
BEGIN:DAYLIGHT
TZOFFSETFROM:-0800
TZOFFSETTO:-0700
TZNAME:PDT
DTSTART:20250309T100000
END:DAYLIGHT
BEGIN:STANDARD
TZOFFSETFROM:-0700
TZOFFSETTO:-0800
TZNAME:PST
DTSTART:20251102T090000
END:STANDARD
END:VTIMEZONE
BEGIN:VEVENT
DTSTART;TZID=America/Los_Angeles:20250714T090000
DTEND;TZID=America/Los_Angeles:20250716T140000
DTSTAMP:20260425T001324
CREATED:20250630T220152Z
LAST-MODIFIED:20250702T041802Z
UID:47449-1752483600-1752674400@lancewallnau.com
SUMMARY:Mission Impossible: Kingdom Business Event - San Diego\, CA
DESCRIPTION:You're Invited to the God Talks\n“Mission Impossible: Kingdom Business” Event…\nBusiness Advice So Good\,\nIt’s Going to Feel Like Cheating\n(Because It’s From God)\n\n\n\n\n\n\n\n\nSkip the Guesswork. Come Download Your Business Plan From Heaven\, Partner With AI\, and Finally Stop Listening to 22-Year-Olds on YouTube Telling You How to 10x Your Business With Dance Reels.\n  \n\n\n\n\nLocation: San Diego\, CA \nJuly 14-16 2025 \n\n\nFor more information and to register\, visit: https://godtalks.com/event/
URL:https://lancewallnau.com/event/mission-impossible-kingdom-business-event-san-diego-ca/
LOCATION:TX
ATTACH;FMTTYPE=image/png:https://lancewallnau.com/wp-content/uploads/2025/06/Mission-Impossible-300px.png
END:VEVENT
END:VCALENDAR