BEGIN:VCALENDAR
VERSION:2.0
PRODID:-//Lance Wallnau - ECPv6.9.1//NONSGML v1.0//EN
CALSCALE:GREGORIAN
METHOD:PUBLISH
X-WR-CALNAME:Lance Wallnau
X-ORIGINAL-URL:https://lancewallnau.com
X-WR-CALDESC:Events for Lance Wallnau
REFRESH-INTERVAL;VALUE=DURATION:PT1H
X-Robots-Tag:noindex
X-PUBLISHED-TTL:PT1H
BEGIN:VTIMEZONE
TZID:America/Kentucky/Louisville
BEGIN:DAYLIGHT
TZOFFSETFROM:-0500
TZOFFSETTO:-0400
TZNAME:EDT
DTSTART:20250309T070000
END:DAYLIGHT
BEGIN:STANDARD
TZOFFSETFROM:-0400
TZOFFSETTO:-0500
TZNAME:EST
DTSTART:20251102T060000
END:STANDARD
END:VTIMEZONE
BEGIN:VEVENT
DTSTART;TZID=America/Kentucky/Louisville:20250703T190000
DTEND;TZID=America/Kentucky/Louisville:20250704T220000
DTSTAMP:20260425T001325
CREATED:20250630T193210Z
LAST-MODIFIED:20250630T193210Z
UID:47440-1751569200-1751666400@lancewallnau.com
SUMMARY:FlashPoint LIVE - Louisville\, Kentucky
DESCRIPTION:FlashPoint Army\, we are SO READY to be in Kentucky! \nNow that 2024 is behind us\, the work is just beginning. For two nights\, Gene Bailey will be joined by a panel of insightful leaders who will discuss what is going on in America\, and how we can activate to make real\, lasting change. \nWe've been praying\, we've been influencing\, we've voted …. now let's make sure we are creating godly change that will last for generations. Let's get equipped and activated—together! \nSchedule (all times EDT):\nLIVE: Thursday\, July 3 @ 7 p.m. ET (Doors to venue and sanctuary open at 6 p.m.)\nLIVE: Friday\, July 4 @ 7 p.m. ET (Doors to venue and sanctuary open at 6 p.m.) \nTHIS IS AN OUTDOOR EVENT DUE TO THE FIREWORKS ON JULY 4th\, More Details To Follow \nRegistration is required for this event! \nFor more information and to register\, visit: fparmy.com/kentucky
URL:https://lancewallnau.com/event/flashpoint-live-louisville-kentucky/
LOCATION:TX
ATTACH;FMTTYPE=image/jpeg:https://lancewallnau.com/wp-content/uploads/2025/06/kentuckyupdate4-scaled.jpg
END:VEVENT
END:VCALENDAR