BEGIN:VCALENDAR
VERSION:2.0
PRODID:-//Lance Wallnau - ECPv6.9.1//NONSGML v1.0//EN
CALSCALE:GREGORIAN
METHOD:PUBLISH
X-ORIGINAL-URL:https://lancewallnau.com
X-WR-CALDESC:Events for Lance Wallnau
REFRESH-INTERVAL;VALUE=DURATION:PT1H
X-Robots-Tag:noindex
X-PUBLISHED-TTL:PT1H
BEGIN:VTIMEZONE
TZID:America/Chicago
BEGIN:DAYLIGHT
TZOFFSETFROM:-0600
TZOFFSETTO:-0500
TZNAME:CDT
DTSTART:20250309T080000
END:DAYLIGHT
BEGIN:STANDARD
TZOFFSETFROM:-0500
TZOFFSETTO:-0600
TZNAME:CST
DTSTART:20251102T070000
END:STANDARD
END:VTIMEZONE
BEGIN:VEVENT
DTSTART;TZID=America/Chicago:20250221T190000
DTEND;TZID=America/Chicago:20250222T133000
DTSTAMP:20260425T073829
CREATED:20250217T180441Z
LAST-MODIFIED:20250217T180441Z
UID:44548-1740164400-1740231000@lancewallnau.com
SUMMARY:Elevate Prophetic Conference - Lewisville\, Texas
DESCRIPTION:Venue:\nThe Shepherd’s House\n225 Milton St.\nLewisville\, TX 75057 \nFebruary 21-February 22nd \nSCHEDULE\n\n2/21 – Friday Evening\n\n\n\nTime\nActivity\n\n\n\n\n6:00pm – 7:00pm\nRegistration & Coffee in the Foyer | Product Tables Open\n\n\n7:00pm – 8:00pm\nWelcome | Praise & Worship / Offering\n\n\n8:00pm – 9:00pm\nSession 1 – GUEST SPEAKER\n\n\n9:00pm – 9:30pm\nTime of Ministry\n\n\n\n\n\n2/22 – Saturday Morning\n\n\n\nTime\nActivity\n\n\n\n\n8:30am – 9:00am\nCoffee and Donuts in the Foyer | Product Tables Open\n\n\n9:00am – 9:30am\nWelcome and Praise and Worship\n\n\n9:30am – 10:20am\nSession 2 – SPEAKER\n\n\n10:20am – 10:35am\nBREAK\n\n\n10:35am – 11:25am\nSession 3 – SPEAKER\n\n\n11:25am – 11:35am\nOffering\n\n\n11:35am – 12:45am\nSession 4 – SPEAKER\n\n\n12:45pm – 1:15pm\nTime of Ministry\n\n\n1:30pm\nBuilding Closed\n\n\n\nFor more information and to register\, visit: https://marcuswickministries.ticketspice.com/elevate-prophetic-conference-2025
URL:https://lancewallnau.com/event/elevate-prophetic-conference-lewisville-texas/
LOCATION:The Shepherd’s House\, 225 Milton St.\, Lewisville\, TX\, 75057\, United States
ATTACH;FMTTYPE=image/png:https://lancewallnau.com/wp-content/uploads/2025/02/Elevate-conference.png
END:VEVENT
END:VCALENDAR