BEGIN:VCALENDAR
VERSION:2.0
PRODID:-//Lance Wallnau - ECPv6.9.1//NONSGML v1.0//EN
CALSCALE:GREGORIAN
METHOD:PUBLISH
X-ORIGINAL-URL:https://lancewallnau.com
X-WR-CALDESC:Events for Lance Wallnau
REFRESH-INTERVAL;VALUE=DURATION:PT1H
X-Robots-Tag:noindex
X-PUBLISHED-TTL:PT1H
BEGIN:VTIMEZONE
TZID:America/Los_Angeles
BEGIN:DAYLIGHT
TZOFFSETFROM:-0800
TZOFFSETTO:-0700
TZNAME:PDT
DTSTART:20250309T100000
END:DAYLIGHT
BEGIN:STANDARD
TZOFFSETFROM:-0700
TZOFFSETTO:-0800
TZNAME:PST
DTSTART:20251102T090000
END:STANDARD
END:VTIMEZONE
BEGIN:VEVENT
DTSTART;VALUE=DATE:20250116
DTEND;VALUE=DATE:20250118
DTSTAMP:20260425T090333
CREATED:20250106T105244Z
LAST-MODIFIED:20250106T105244Z
UID:44008-1736985600-1737158399@lancewallnau.com
SUMMARY:Mach 10 Mastermind - Napa\, CA
DESCRIPTION:The ONLY Mastermind and Coaching Group That Combines God's Wisdom & Strategic Business Advice and Couples it With Prayer & Prophetic Breakthroughs\n\n\n\n\n\n\n\n\n\nBeing in The Mach 10 Coaching Program—or prior programs has been a game-changer for hundreds of CEOs and success-minded people like you. \n\nNext Mastermind location: Napa\, CA \nDates: January 16-17\, 2025 \n\n\n\n\n\n\n\n\n\n\n\n\n\n\n\nFor more information and to apply for the Mastermind\, go to: https://edrush.com/coaching/
URL:https://lancewallnau.com/event/mach-10-mastermind-napa-ca/
LOCATION:TX
ATTACH;FMTTYPE=image/png:https://lancewallnau.com/wp-content/uploads/2025/01/Mach-10-Mastermind.png
END:VEVENT
END:VCALENDAR