BEGIN:VCALENDAR
VERSION:2.0
PRODID:-//Lance Wallnau - ECPv6.9.1//NONSGML v1.0//EN
CALSCALE:GREGORIAN
METHOD:PUBLISH
X-ORIGINAL-URL:https://lancewallnau.com
X-WR-CALDESC:Events for Lance Wallnau
REFRESH-INTERVAL;VALUE=DURATION:PT1H
X-Robots-Tag:noindex
X-PUBLISHED-TTL:PT1H
BEGIN:VTIMEZONE
TZID:America/Detroit
BEGIN:DAYLIGHT
TZOFFSETFROM:-0500
TZOFFSETTO:-0400
TZNAME:EDT
DTSTART:20240310T070000
END:DAYLIGHT
BEGIN:STANDARD
TZOFFSETFROM:-0400
TZOFFSETTO:-0500
TZNAME:EST
DTSTART:20241103T060000
END:STANDARD
TZID:Asia/Jerusalem
BEGIN:DAYLIGHT
TZOFFSETFROM:+0200
TZOFFSETTO:+0300
TZNAME:IDT
DTSTART:20240329T000000
END:DAYLIGHT
BEGIN:STANDARD
TZOFFSETFROM:+0300
TZOFFSETTO:+0200
TZNAME:IST
DTSTART:20241026T230000
END:STANDARD
END:VTIMEZONE
BEGIN:VEVENT
DTSTART;TZID=America/Detroit:20241001T190000
DTEND;TZID=America/Detroit:20241005T130000
DTSTAMP:20260425T131821
CREATED:20240919T002448Z
LAST-MODIFIED:20240923T224343Z
UID:42620-1727809200-1728133200@lancewallnau.com
SUMMARY:The Main Event - Cleveland\, TN
DESCRIPTION:The Awaken America Gathering\n\n\n\n\n\n\n\n\n\n\n\n\nPerry Stone Ministries celebrates the time-honored tradition of old-fashioned Pentacostal camp-meeting services\, and that's just what you'll find at “The Main Event”.  Perry invites anointed ministers who operate in the power of the Holy Spirit and inspire us to be a light that will shine to the world. \nHeld annually during the fall of each year\, this Homecoming event draws in friends from around the country to experience a season of refreshing and a real move of God. \n\nLance Wallnau speaking session: Wednesday\, October 2nd at 7PM \n\n\nFor more information and to register\, visit: https://perrystone.org/the-main-event/
URL:https://lancewallnau.com/event/the-main-event-cleveland-tn/
LOCATION:Omega Center International\, 410 Urbane Rd NE\, Cleveland\, TN\, 37312\, United States
ATTACH;FMTTYPE=image/jpeg:https://lancewallnau.com/wp-content/uploads/2024/09/Main-Event-Perry-Stone-scaled.jpg
END:VEVENT
BEGIN:VEVENT
DTSTART;VALUE=DATE:20241002
DTEND;VALUE=DATE:20241017
DTSTAMP:20260425T131821
CREATED:20240923T234402Z
LAST-MODIFIED:20240923T234448Z
UID:42702-1727827200-1729123199@lancewallnau.com
SUMMARY:All Nations Convocation 2024 - Jerusalem\, Israel
DESCRIPTION:Join us for this years All Nations Convocation to welcome the King of Glory live from Jerusalem! \nWhen? \nOCTOBER 2 – OCTOBER 16\, 2024 \nWhere? \nIn Jerusalem – RAMAT RACHEL HOTEL CONVOCATION CENTER \n\nHave questions? Need more info? Want to sponsor the event?\n\nContact us today and we'll get back to you ASAP. \n\njhopfan@jhopfan.org \n\nVisit: https://jhopfan.org/project/ancj
URL:https://lancewallnau.com/event/jerusalem-convocation-2024/
LOCATION:TX
ATTACH;FMTTYPE=image/webp:https://lancewallnau.com/wp-content/uploads/2024/09/5dead9d4-09d8-48e0-9352-3652b0c0ceee_ANCJ2024Flyer-20241219.webp
END:VEVENT
END:VCALENDAR